BEGIN:VCALENDAR
VERSION:2.0
PRODID:-//PromoFirenze - ECPv6.15.8//NONSGML v1.0//EN
CALSCALE:GREGORIAN
METHOD:PUBLISH
X-ORIGINAL-URL:https://www.promofirenze.it
X-WR-CALDESC:Eventi per PromoFirenze
REFRESH-INTERVAL;VALUE=DURATION:PT1H
X-Robots-Tag:noindex
X-PUBLISHED-TTL:PT1H
BEGIN:VTIMEZONE
TZID:Europe/Rome
BEGIN:DAYLIGHT
TZOFFSETFROM:+0100
TZOFFSETTO:+0200
TZNAME:CEST
DTSTART:20230326T010000
END:DAYLIGHT
BEGIN:STANDARD
TZOFFSETFROM:+0200
TZOFFSETTO:+0100
TZNAME:CET
DTSTART:20231029T010000
END:STANDARD
BEGIN:DAYLIGHT
TZOFFSETFROM:+0100
TZOFFSETTO:+0200
TZNAME:CEST
DTSTART:20240331T010000
END:DAYLIGHT
BEGIN:STANDARD
TZOFFSETFROM:+0200
TZOFFSETTO:+0100
TZNAME:CET
DTSTART:20241027T010000
END:STANDARD
BEGIN:DAYLIGHT
TZOFFSETFROM:+0100
TZOFFSETTO:+0200
TZNAME:CEST
DTSTART:20250330T010000
END:DAYLIGHT
BEGIN:STANDARD
TZOFFSETFROM:+0200
TZOFFSETTO:+0100
TZNAME:CET
DTSTART:20251026T010000
END:STANDARD
BEGIN:DAYLIGHT
TZOFFSETFROM:+0100
TZOFFSETTO:+0200
TZNAME:CEST
DTSTART:20260329T010000
END:DAYLIGHT
BEGIN:STANDARD
TZOFFSETFROM:+0200
TZOFFSETTO:+0100
TZNAME:CET
DTSTART:20261025T010000
END:STANDARD
END:VTIMEZONE
BEGIN:VEVENT
DTSTART;TZID=Europe/Rome:20241021T180000
DTEND;TZID=Europe/Rome:20250131T200000
DTSTAMP:20260425T025247
CREATED:20240807T101219Z
LAST-MODIFIED:20250120T140409Z
UID:21133-1729533600-1738353600@www.promofirenze.it
SUMMARY:Corsi Business English ottobre 2024 in forma agevolata
DESCRIPTION:Ripartono anche quest’anno i corsi di miglioramento linguistico sul Business English proposti da PromoFirenze alle imprese fiorentine in forma agevolata. \nScarica qui l’avviso completo \nIl corso è gestito da PromoFirenze e tenuto da Wall Street English\, scuola con esperienza pluriennale nell’effettuazione di corsi di lingua. Gli insegnanti saranno madrelingua e/o bilingue certificati\, ed utilizzeranno libri e/o supporti didattici prodotti e distribuiti dalla scuola. I corsi verranno svolti online. \n  \nOFFERTA DIDATTICA \nProposta pensata per differenti livelli linguistici e per profili dirigenziali o commerciali che conoscono già l’inglese\, ma che necessitano di migliorarlo\, di stimoli e approfondimenti su argomenti di business e attualità. \nIl corso di gruppo prevede minimo 3 e massimo 6 partecipanti\, sarà completato in 12 settimane\, con un incontro on-line una volta a settimana in un giorno fisso tra il lunedì e il giovedì nelle fasce orarie 13:00-15:00 o 18:00-20:00\, con durata tra 60/90 minuti con l’insegnante e con una parte di esercizi di consolidamento\, da svolgere su una piattaforma professionale dedicata web o App che sarà messa a disposizione dalla scuola e per la quale ogni partecipante avrà proprie credenziali di accesso. \nAl termine del corso\, verificata con gli insegnanti la presenza effettiva che dovrà essere pari almeno al 75%\, verrà rilasciato un attestato. \n  \nDESTINATARI E PARAMETRI DI AMMISSIONE \nSono ammesse a partecipare le imprese che rispettino i parametri di ammissione descritti nell’avviso. \nPer presentare la propria domanda di partecipazione\, è necessario compilare il form disponibile a questo link entro e non oltre il 23/09/2024. \nSarà data la possibilità di partecipazione ad una persona per azienda\, fino ad esaurimento posti. Qualora vi fossero ancora posti disponibili nei corsi attivati\, verrà data la possibilità di adesione ad una seconda persona della stessa azienda. I richiedenti potranno essere ammessi soltanto se si raggiungerà il numero minimo di persone per formare il gruppo appartenente al loro livello linguistico. \n  \nCOSTI E CONTRIBUTO DE MINIMIS \n\nLa quota di iscrizione per la partecipazione in forma non agevolata è di € 400\,00 + Iva a partecipante.\nLa quota di iscrizione per la partecipazione in forma agevolata\, per le imprese di cui all’Art. 3 comma 2 dell’avviso\, è di € 150\,00 + Iva a partecipante. Ai partecipanti in forma agevolata viene richiesto di versare una cauzione di € 100\,00. La cauzione verrà restituita\, una volta verificata con gli insegnanti la presenza effettiva\, a completamento di almeno il 75% del corso con l’insegnante. Tutte le imprese beneficiarie dell’agevolazione\, verranno iscritte nel Registro Nazionale degli Aiuti di Stato per un importo massimo di € 455\,00 ognuna.\n\nPer ulteriori informazioni: exporthub@promofirenze.it \n  \nEntro 23/09/2024 Invia la domanda di partecipazione
URL:https://www.promofirenze.it/evento/corsi-business-english-ottobre-2024-in-forma-agevolata/
LOCATION:Online
CATEGORIES:Corso
ATTACH;FMTTYPE=image/jpeg:https://www.promofirenze.it/wp-content/uploads/2023/02/immagine-bandiera-uk.jpg
END:VEVENT
BEGIN:VEVENT
DTSTART;TZID=Europe/Rome:20250116T000000
DTEND;TZID=Europe/Rome:20250116T000000
DTSTAMP:20260425T025247
CREATED:20241217T154653Z
LAST-MODIFIED:20250930T144756Z
UID:22302-1736985600-1736985600@www.promofirenze.it
SUMMARY:Aperte le iscrizioni alla XXXIII edizione dell’Ercole Olivario
DESCRIPTION:Aperte le iscrizioni alla XXXIII edizione dell’Ercole Olivario il prestigioso concorso nazionale che promuove le eccellenze olearie dei territori italiani \nPossono partecipare al concorso Ercole Olivario i produttori di olio extra vergine d’oliva di qualità italiano\, ottenuto dalla molitura effettuata nella campagna olivicola in corso\, che potranno essere ammessi con un solo olio per ciascuna delle due categorie in gara: \n\nOli a denominazione d’origine\, già riconosciute in ambito comunitario (DOP ed IGP)\nOli extravergini di oliva\, la cui territorialità è attestata dal partecipante con autodichiarazione.\n\nÈ possibile iscriversi fino a giovedì 16 gennaio 2025 \nRegolamento\, modalità di partecipazione e informazioni \nPer partecipare è possibile iscriversi attraverso il sito di Ercole Olivario nella sezione Edizione 2025\, che consentirà di inviare la domanda in tempo reale o in alternativa inviando la domanda di partecipazione a ercoleolivario@umbria.camcom.it \nTra le novità di questa edizione è previsto l’aumento a 75/100 del punteggio minimo necessario sia per l’ammissione degli oli alle selezioni nazionali\, sia per la partecipazione delle aziende olearie alle iniziative di promozione e ai progetti di Extra Cuoca e della Carta degli Oli; l’incremento a 120 del numero massimo di oli provenienti da tutti i territori regionali\, ammessi alle finali nazionali; l’integrazione nel regolamento dell’Ercole Olivario della Goccia d’Ercole\, la sezione a latere del concorso nazionale introdotta per sostenere le piccole produzioni olearie. \nA ricevere i premi – in totale 12 etichette – saranno i primi classificati di ciascuna delle due categorie in gara – DOP/IGP ed extra vergine – per le tipologie fruttato leggero\, fruttato medio e fruttato intenso\, mentre ulteriori 6 premi verranno assegnati\, indifferentemente dalla categoria\, in modo proporzionale al numero di oli presenti in ciascuna tipologia di fruttato. \nMenzioni e premi speciali saranno assegnati agli oli che avranno ottenuto un punteggio di almeno 75/100: \n\nMenzione Speciale “Olio Biologico”\nMenzione “Olio Monocultivar”\nPremio Speciale Amphora Olearia\nMenzione di Merito Giovane Imprenditore\nMenzione di Merito Impresa Donna\nMenzione di Merito Impresa Digital Communication\nMenzione di Merito Giorgio Phellas – Turismo dell’olio
URL:https://www.promofirenze.it/evento/aperte-le-iscrizioni-alla-xxxiii-edizione-dellercole-olivario/
LOCATION:In presenza e online
ATTACH;FMTTYPE=image/png:https://www.promofirenze.it/wp-content/uploads/2024/12/ERCOLE-OLIVARIO-2025.png
END:VEVENT
BEGIN:VEVENT
DTSTART;VALUE=DATE:20250120
DTEND;VALUE=DATE:20250122
DTSTAMP:20260425T025247
CREATED:20250117T142747Z
LAST-MODIFIED:20250930T151706Z
UID:22563-1737331200-1737503999@www.promofirenze.it
SUMMARY:Servizi ExportHub 2025 a tariffa agevolata: aperto l’avviso per le imprese fiorentine
DESCRIPTION:Aperto da oggi il nuovo avviso per l’erogazione dei servizi di internazionalizzazione offerti da PromoFirenze\, con la possibilità per le aziende iscritte alla Camera di Commercio di Firenze di richiedere tariffe agevolate al 50%.  \nIl progetto ExportHub di PromoFirenze prevede azioni finalizzate ad aiutare le imprese del territorio a trovare sbocco sui mercati internazionali e a rafforzare la loro presenza all’estero\, attraverso la costruzione di percorsi di orientamento e assistenza individuale\, tra i quali: \n\nRicerca partner esteri: servizio per individuare partner commerciali verificati\, in target con il profilo e le richieste dell’impresa. Il servizio potrà completarsi con l’elaborazione di un’agenda appuntamenti (virtuale o reale). Il servizio si sviluppa con tempistiche secondo la complessità della ricerca e del prodotto.\nRicerca di mercato su prodotti e settori specifici\, per verificare le potenzialità di sviluppo e penetrazione\, la ricettività del mercato\, la struttura della distribuzione\, la richiesta dei clienti e dei compratori locali\, ecc. Il servizio viene reso sulla base delle specifiche richieste dell’azienda.\nPartecipazione a specifici progetti all’estero\, selezionati e proposti da PromoFirenze\, di carattere promozionale o commerciale\, quali a titolo di esempio: inserimento su piattaforme e-commerce\, partecipazione a incontri e eventi B2b\, ecc.;\nServizi individuali richiesti dall’impresa al fine di ricevere supporto e/o informazioni di tipo diverso dai precedenti\, ad esempio: accesso a database esteri\, richiesta informazioni doganali\, supporto per registrazione su enti istituzionali di accreditamento esteri\, azioni di follow up ecc.\n\nL’avviso consente di richiedere l’accesso ai servizi per le imprese che rispettino i parametri previsti. \nLe imprese iscritte alla Camera di Commercio di Firenze potranno richiedere l’agevolazione del 50% in regime de minimis degli importi relativi ai servizi che verranno preventivati in base alle specifiche richieste\, fino ad un totale di 5.000\,00 € anche suddiviso su più servizi. \nScadenza 31.12.2025 \nLink all’Avviso \nLink form di candidatura \nLe imprese interessate dovranno entrare in contatto con l’ufficio ExportHub\, per maggiori dettagli\, scrivendo a: exporthub@promofirenze.it
URL:https://www.promofirenze.it/evento/servizi-exporthub-2025-a-tariffa-agevolata-aperto-lavviso-per-le-imprese-fiorentine/
LOCATION:In presenza e online
ATTACH;FMTTYPE=image/jpeg:https://www.promofirenze.it/wp-content/uploads/2025/01/Strategia-di-internazionalizzazione.jpg
END:VEVENT
BEGIN:VEVENT
DTSTART;TZID=Europe/Rome:20250127T150000
DTEND;TZID=Europe/Rome:20250127T160000
DTSTAMP:20260425T025247
CREATED:20250120T135833Z
LAST-MODIFIED:20251001T154456Z
UID:22570-1737990000-1737993600@www.promofirenze.it
SUMMARY:Seminario di presentazione: nuova gara d'appalto per la gestione dei rifiuti nella città di Bogotà
DESCRIPTION:PromoFirenze propone alle aziende interessate il prossimo webinar della Camera di Commercio Italiana in Colombia \n“ExpoGreentech presenta: la nuova gara d’appalto per l’implementazione del modello di gestione dei rifiuti solidi della città di Bogotá“ \nIl seminario si svolgerà online lunedì 27 gennaio alle 15:00 (CET). \nIl nuovo modello di gestione dei rifiuti solidi ha l’obiettivo di innovare il processo\, migliorare la copertura del servizio\, aumentare la riciclabilità dei materiali\, rafforzando quindi l’economia circolare della città. \nA continuazione verrà presentata la fiera Expo Greentech\, che avrà luogo nella città di Bogotá i prossimi 18 e 19 giugno. \n  \nData: lunedì 27 gennaio \nOra: 15.00 \nPiattaforma: ZOOM \n 
URL:https://www.promofirenze.it/evento/seminario-di-presentazione-nuova-gara-dappalto-per-la-gestione-dei-rifiuti-nella-citta-di-bogota/
LOCATION:Online
CATEGORIES:Webinar
ATTACH;FMTTYPE=image/jpeg:https://www.promofirenze.it/wp-content/uploads/2025/01/Gestione-rifiuti.jpg
END:VEVENT
END:VCALENDAR