BEGIN:VCALENDAR
VERSION:2.0
PRODID:-//PromoFirenze - ECPv6.15.8//NONSGML v1.0//EN
CALSCALE:GREGORIAN
METHOD:PUBLISH
X-ORIGINAL-URL:https://www.promofirenze.it
X-WR-CALDESC:Eventi per PromoFirenze
REFRESH-INTERVAL;VALUE=DURATION:PT1H
X-Robots-Tag:noindex
X-PUBLISHED-TTL:PT1H
BEGIN:VTIMEZONE
TZID:Europe/Rome
BEGIN:DAYLIGHT
TZOFFSETFROM:+0100
TZOFFSETTO:+0200
TZNAME:CEST
DTSTART:20220327T010000
END:DAYLIGHT
BEGIN:STANDARD
TZOFFSETFROM:+0200
TZOFFSETTO:+0100
TZNAME:CET
DTSTART:20221030T010000
END:STANDARD
BEGIN:DAYLIGHT
TZOFFSETFROM:+0100
TZOFFSETTO:+0200
TZNAME:CEST
DTSTART:20230326T010000
END:DAYLIGHT
BEGIN:STANDARD
TZOFFSETFROM:+0200
TZOFFSETTO:+0100
TZNAME:CET
DTSTART:20231029T010000
END:STANDARD
BEGIN:DAYLIGHT
TZOFFSETFROM:+0100
TZOFFSETTO:+0200
TZNAME:CEST
DTSTART:20240331T010000
END:DAYLIGHT
BEGIN:STANDARD
TZOFFSETFROM:+0200
TZOFFSETTO:+0100
TZNAME:CET
DTSTART:20241027T010000
END:STANDARD
END:VTIMEZONE
BEGIN:VEVENT
DTSTART;TZID=Europe/Rome:20230126T143000
DTEND;TZID=Europe/Rome:20230126T160000
DTSTAMP:20260425T150205
CREATED:20230105T145521Z
LAST-MODIFIED:20250307T120127Z
UID:16616-1674743400-1674748800@www.promofirenze.it
SUMMARY:Webinar "Brasile: nuova normativa per etichettatura dei prodotti alimentari"
DESCRIPTION:Webinar gratuito\nBrasile: nuova normativa in materia di etichettatura e valori nutrizionali dei prodotti alimentari\nPromoFirenze\, Azienda Speciale della Camera di Commercio di Firenze\, in collaborazione con l’ufficio ICE di San Paolo\, propone alle imprese agroalimentari\, a seguito dei recenti cambiamenti normativi\, un webinar gratuito su come modificare l’etichettatura dei prodotti agroalimentari esportati in Brasile e come deve essere l’etichetta per i vini. \nLe importazioni brasiliane di prodotti agroalimentari e bevande sono ammontate a USD 10\,141 mld nel 2021\, cifra in aumento del 18\,4% rispetto all’anno precedente.\nL’espansione continua nel 2022\, avendo il paese latino-americano importato tra gennaio e novembre USD 10\,3 mld\, valore in aumento dell’11\,0% rispetto allo stesso periodo del 2021.\nCon quota pari al 2\,4% nel 2021 e del 2\,3% nei primi 11 mesi del 2022\, l’Italia è il secondo principale fornitore dei brasiliani in Europa\, figurando tra i principali fornitori a livello mondiale per pasta secca\, vino\, olio di oliva\, pomodori\, prodotti da forno\, kiwi\, farina di grano\, aceto e prodotti dolciari. \nProgramma \n\nH 14.30 – Apertura del Webinar \, saluti del Segretario della CCIAA di Firenze Giuseppe Salvini\nH 14.40 – Ferdinando Fiore\, Direttore Ufficio ICE di San Paolo\, dati introduttivi del mercato brasiliano\nH 14.45 – Ronaldo Padovani\, Ufficio ICE di San Paolo\n\n\n\n\nFiliera agroalimentare in Brasile: andamento del mercato\nConcetto di etichettatura nutrizionale (Rotulagem Nutricional)\, che comprende: la tabella nutrizionale\, l’etichettatura nutrizionale frontale (Rotulagem Nutricional Frontal) e le allegazioni nutrizionali;\nPrincipali cambiamenti apportati nel modello di tabella nutrizionale (concetto di porzione\, base 100\, nutrienti\, %VR\, leggibilità);\nPittogramma della lente di ingrandimento (quando\, dove e come applicarlo);\nScadenze;\nRegistrazione DIPOA x i prodotti di origine animale;\nPrincipali caratteristiche dell’etichettatura dei vini.\n\n\n\n\nH 15.10 – Giacomo Guarnera\, Desk Assistenza e Tutela della Proprietà Intellettuale e degli Ostacoli al Commercio: spunti su come esportare in Brasile (processo e modalità di importazione\, dazi ed altre barriere\, licenza di importazione)\nH 15.20 – Domande e risposte\nH 16.00 – Conclusione\n\nPer ulteriori informazioni: exporthub@promofirenze.it
URL:https://www.promofirenze.it/evento/webinar-brasile-nuova-normativa-in-materia-di-etichettatura-e-valori-nutrizionali-dei-prodotti-alimentari/
LOCATION:Webinar\, online
CATEGORIES:Webinar
ATTACH;FMTTYPE=image/jpeg:https://www.promofirenze.it/wp-content/uploads/2023/01/bandiera-brasile.jpg
END:VEVENT
END:VCALENDAR