BEGIN:VCALENDAR
VERSION:2.0
PRODID:-//PromoFirenze - ECPv6.15.8//NONSGML v1.0//EN
CALSCALE:GREGORIAN
METHOD:PUBLISH
X-ORIGINAL-URL:https://www.promofirenze.it
X-WR-CALDESC:Eventi per PromoFirenze
REFRESH-INTERVAL;VALUE=DURATION:PT1H
X-Robots-Tag:noindex
X-PUBLISHED-TTL:PT1H
BEGIN:VTIMEZONE
TZID:Europe/Rome
BEGIN:DAYLIGHT
TZOFFSETFROM:+0100
TZOFFSETTO:+0200
TZNAME:CEST
DTSTART:20210328T010000
END:DAYLIGHT
BEGIN:STANDARD
TZOFFSETFROM:+0200
TZOFFSETTO:+0100
TZNAME:CET
DTSTART:20211031T010000
END:STANDARD
BEGIN:DAYLIGHT
TZOFFSETFROM:+0100
TZOFFSETTO:+0200
TZNAME:CEST
DTSTART:20220327T010000
END:DAYLIGHT
BEGIN:STANDARD
TZOFFSETFROM:+0200
TZOFFSETTO:+0100
TZNAME:CET
DTSTART:20221030T010000
END:STANDARD
BEGIN:DAYLIGHT
TZOFFSETFROM:+0100
TZOFFSETTO:+0200
TZNAME:CEST
DTSTART:20230326T010000
END:DAYLIGHT
BEGIN:STANDARD
TZOFFSETFROM:+0200
TZOFFSETTO:+0100
TZNAME:CET
DTSTART:20231029T010000
END:STANDARD
END:VTIMEZONE
BEGIN:VEVENT
DTSTART;TZID=Europe/Rome:20220923T000000
DTEND;TZID=Europe/Rome:20220923T235900
DTSTAMP:20260420T024842
CREATED:20220805T093132Z
LAST-MODIFIED:20250120T095904Z
UID:14156-1663891200-1663977540@www.promofirenze.it
SUMMARY:Scadenza invio domande Corso Business English
DESCRIPTION:PromoFirenze propone alle imprese fiorentine la possibilità di frequentare dei corsi di miglioramento linguistico\, ponendo un focus sul Business English. La sessione del secondo semestre 2022 prenderà avvio a fine ottobre e sarà accessibile anche in forma agevolata. \nIl corso è gestito da PromoFirenze e tenuto da Wall Street English. Gli insegnanti sono madrelingua e/o bilingue certificati\, ed utilizzeranno libri e/o supporti didattici prodotti e distribuiti da Wall Street English. I corsi verranno svolti online tramite Microsoft Teams. \nL’avviso resta aperto dal 03/08/22 al 23/09/2022. E’ possibile perciò inviare la domanda di partecipazione fino alla data di oggi. \nMaggiori informazioni cliccando qui
URL:https://www.promofirenze.it/evento/scadenza-invio-domande-corso-business-english/
LOCATION:PromoFirenze\, Piazza Dei Giudici\, 3\, Firenze\, 50122\, Italia
CATEGORIES:Bandi
END:VEVENT
BEGIN:VEVENT
DTSTART;TZID=Europe/Rome:20220929T093000
DTEND;TZID=Europe/Rome:20220929T183000
DTSTAMP:20260420T024842
CREATED:20220803T122257Z
LAST-MODIFIED:20220916T134014Z
UID:14113-1664443800-1664476200@www.promofirenze.it
SUMMARY:Convegno: GIOVANI E MONDO DEL LAVORO: LE PROFESSIONI 2.0
DESCRIPTION:29 settembre 2022 – Auditorium della Camera di Commercio di Firenze  \nPiazza dei Giudici\, 3 (Ingresso da Piazza Mentana) \nCamera di Commercio di Firenze e PromoFirenze\, grazie al supporto del Fondo di Perequazione di Unioncamere\, hanno lanciato un progetto di accompagnamento dei giovani nella decisione di fare impresa e nella ricerca di accedere alle nuove professioni. Il progetto\, che ha già visto nelle scorse settimane lo svolgimento di una serie di 7 incontri con giovani aspiranti imprenditori\, finalizzati a fissare le basi teoriche e pratiche per intraprendere i primi passi verso la realizzazione dell’idea imprenditoriale\, prosegue con l’ultimo evento. Una giornata che prevede nel corso della mattina un Convegno in cui esperti e addetti ai lavori daranno vita ad un dibattito su giovani e mondo del lavoro\, presentando le ultime tendenze sulla situazione delle nuove professioni e le opportunità di interesse strategico per la creazione di impresa. Il convegno è pensato per i giovani tra i 18 e i 40 anni che stanno entrando nel mondo del lavoro o hanno in mente di avviare una propria attività\, ma anche per gli addetti ai lavori e gli operatori della scuola e della formazione avanzata. \nPer partecipare ai lavori del convegno REGISTRATI QUI\nNello stesso form di iscrizione è possibile scegliere se partecipare ai tavoli tematici del pomeriggio.\n\nProgramma:\n9.30 Saluti istituzionali – Giuseppe Salvini\, Segretario Generale della CCIAA di Firenze \n9.40 L’impegno del sistema camerale per la creazione di impresa – Caterina Pampaloni\, project manager\, Area Formazione e Politiche attive del lavoro – Unioncamere \n9.50 Saluto dell’Ufficio Scolastico Regionale della Toscana – Roberto Curtolo e Teresa Madeo  \n10.00 Start up\, Incubatori e acceleratori: l’Ecosistema fiorentino dell’innovazione\, strumenti di supporto alla nuova impresa –Alessandro Sordi – co-Founder & CEO – Nana Bianca \n– Il Case History e l’esperienza di Ecole 42: apre all’Innovation Center di Fondazione CR Firenze la nuova sede 42 Firenze \n10.30 Le nuove figure professionali emergenti nei segmenti dell’Ambiente e del Restauro – Marco Frey\, Professore ordinario di Economia e gestione delle imprese della Scuola S.Anna di Pisa \n11.00 Pausa dei lavori \n11.20 Le nuove figure professionali nel settore del restauro – Susanna Bianchi \n11.30 Case history restauro – Daniela Valentini \n11.45 Case history restauro – Eva Martini \n12.00 Case history ambiente – Enco – Energia Collettiva \n12.15 La ricerca attiva del lavoro: forme di inserimento occupazionale come i tirocini e l’apprendistato – ANPAL Servizi SpA – Agenzia Nazionale Politiche Attive del Lavoro – Giuliana Frasca\, Marta Bazzucchi\, Anna Maria Corvino \n 12.40 domande e risposte \n13.00 conclusione dei lavori della mattinata  \nModera: Valentina Maltagliati\, trainer e HR manager\n\nDalle 14.00 alle 18.00\, seguendo le tracce della mattina\, si apriranno nel Salone della Borsa\, 4 tavoli tematici con l’obiettivo di sviluppare idee progettuali per nuove imprese. Ogni tavolo\, guidato da un esperto\, coinvolgerà fino un massimo di 10 partecipanti e svilupperà una specifica tematica che sarà poi discussa a fine giornata alla conclusione dei lavori. \n\nMondo Digitale: la fase di incubazione e accelerazione delle start-up –  Coordina il tavolo: Murate Idea Park (da confermare)\n\n\nRestauro 2.0 – Coordina il tavolo: Susanna Bianchi – Cooperativa Archeologia e membro di Giunta della CCIAA di Firenze\n\n\nLe nuove professioni legate alla difesa dell’ambiente – Coordina il tavolo: Scuola Superiore S.Anna di Pisa e Camera di Commercio di Firenze\n\n\nI giovani\, l’apprendistato e l’avvicinamento al mondo del lavoro: simulazioni ed esempi pratici – Coordinamento del tavolo a cura di Anpal – Agenzia Nazionale Politiche Attive Lavoro\n\n  \nPer maggiori info: info@promofirenze.it \n 
URL:https://www.promofirenze.it/evento/convegno-giovani-e-mondo-del-lavoro-le-professioni-2-0/
LOCATION:Auditorium della Camera di Commercio di Firenze\, Piazza Mentana\, 1\, Firenze\, 50122\, Italia
CATEGORIES:Evento Auditorium Camera di Commercio
ATTACH;FMTTYPE=image/jpeg:https://www.promofirenze.it/wp-content/uploads/2022/08/convegno-29-sett22_immagine-google-form.jpg
END:VEVENT
BEGIN:VEVENT
DTSTART;TZID=Europe/Rome:20220929T113000
DTEND;TZID=Europe/Rome:20220929T130000
DTSTAMP:20260420T024842
CREATED:20220920T081100Z
LAST-MODIFIED:20250930T152007Z
UID:14396-1664451000-1664456400@www.promofirenze.it
SUMMARY:Webinar “Contratti internazionali: i dieci punti chiave”
DESCRIPTION:Un webinar gratuito per analizzare gli aspetti da valutare in caso di conclusione di contratti con partner esteri\, dalla fase pre-contrattuale di negoziazione\, passando per la redazione e conclusione del contratto per arrivare alla sua esecuzione. \nLe aziende partecipanti potranno inviare dei quesiti individuali da sottoporre agli avvocati presenti\, online o successivamente in un incontro one to one. \nPer maggiori informazioni\, clicca qui
URL:https://www.promofirenze.it/evento/webinar-contratti-internazionali-i-dieci-punti-chiave/
LOCATION:Webinar\, online
CATEGORIES:Webinar
END:VEVENT
END:VCALENDAR