BEGIN:VCALENDAR
VERSION:2.0
PRODID:-//PromoFirenze - ECPv6.15.8//NONSGML v1.0//EN
CALSCALE:GREGORIAN
METHOD:PUBLISH
X-ORIGINAL-URL:https://www.promofirenze.it
X-WR-CALDESC:Eventi per PromoFirenze
REFRESH-INTERVAL;VALUE=DURATION:PT1H
X-Robots-Tag:noindex
X-PUBLISHED-TTL:PT1H
BEGIN:VTIMEZONE
TZID:Europe/Rome
BEGIN:DAYLIGHT
TZOFFSETFROM:+0100
TZOFFSETTO:+0200
TZNAME:CEST
DTSTART:20210328T010000
END:DAYLIGHT
BEGIN:STANDARD
TZOFFSETFROM:+0200
TZOFFSETTO:+0100
TZNAME:CET
DTSTART:20211031T010000
END:STANDARD
BEGIN:DAYLIGHT
TZOFFSETFROM:+0100
TZOFFSETTO:+0200
TZNAME:CEST
DTSTART:20220327T010000
END:DAYLIGHT
BEGIN:STANDARD
TZOFFSETFROM:+0200
TZOFFSETTO:+0100
TZNAME:CET
DTSTART:20221030T010000
END:STANDARD
BEGIN:DAYLIGHT
TZOFFSETFROM:+0100
TZOFFSETTO:+0200
TZNAME:CEST
DTSTART:20230326T010000
END:DAYLIGHT
BEGIN:STANDARD
TZOFFSETFROM:+0200
TZOFFSETTO:+0100
TZNAME:CET
DTSTART:20231029T010000
END:STANDARD
END:VTIMEZONE
BEGIN:VEVENT
DTSTART;VALUE=DATE:20220316
DTEND;VALUE=DATE:20220317
DTSTAMP:20260420T045150
CREATED:20220224T112002Z
LAST-MODIFIED:20250310T135547Z
UID:13129-1647388800-1647475199@www.promofirenze.it
SUMMARY:WEBINAR - Le opportunità del PNRR per le imprese e la guida al principio DNSH
DESCRIPTION:Il webinar approfondirà in particolare gli interventi di prossima attuazione nell’area fiorentina e le modalità\ncon cui le imprese potranno beneficiarne.
URL:https://www.promofirenze.it/evento/webinar-le-opportunita-del-pnrr-per-le-imprese-e-la-guida-al-principio-dnsh/
LOCATION:PromoFirenze\, Piazza Dei Giudici\, 3\, Firenze\, 50122\, Italia
CATEGORIES:Webinar
END:VEVENT
BEGIN:VEVENT
DTSTART;TZID=Europe/Rome:20220316T080000
DTEND;TZID=Europe/Rome:20220316T170000
DTSTAMP:20260420T045150
CREATED:20220316T143933Z
LAST-MODIFIED:20250930T151752Z
UID:13242-1647417600-1647450000@www.promofirenze.it
SUMMARY:The Supply Chain Resilience platform
DESCRIPTION:The Supply Chain Resilience platform\nLa piattaforma europea per la resilienza della catena di fornitura\nFebbraio 2022-febbraio 2023 \n  \nRegistra GRATUITAMENTE la tua attività per entrare in contatto con nuovi partner e proteggere la tua catena di approvvigionamento internazionale! \nL’Europa sta affrontando una serie di sfide economiche\, ambientali e sociali\, in particolare la crisi in Ucraina\, con le imprese gravemente colpite dalle interruzioni della catena di approvvigionamento. Per affrontare queste sfide\, l’Unione europea ha varato nuove misure per rafforzare la resilienza del Mercato Unico e costruire un’economia sostenibile\, digitale e competitiva a livello globale. \nMigliorare la capacità di imprenditori\, imprese e società di riprendersi dalle crisi è fondamentale per la rapida ripresa e il futuro dell’Europa. Tuttavia\, riavviare l’economia dopo una pandemia e una recessione non è un compito facile. Tali cambiamenti richiedono un’azione immediata e sforzi congiunti a tutti i livelli e le parti interessate. \nLa rete Enterprise Europe Network ed i cluster dell’UE svolgono un ruolo essenziale nell’attenuazione delle vulnerabilità nelle catene di approvvigionamento internazionali. Per affrontare questi problemi urgenti\, la Rete ha istituito una PIATTAFORMA PER LA RESILIENZA DELLA CATENA DI APPROVVIGIONAMENTO. Obiettivo supportare le aziende a conservare\, ristrutturare o sostituire le catene di approvvigionamento esistenti\, nonché reperire materie prime\, parti\, componenti e/o prodotti semilavorati o servizi necessari per continuare la produzione. \n  \nOBIETTIVI DEL PROGETTO: \n\nPubblicare offerte per materie prime\, parti\, componenti e/o beni o servizi (semi)finiti\nPromuovere le richieste delle aziende europee per sostenere le loro catene di approvvigionamento\nMettere in contatto fornitori internazionali con acquirenti di beni e servizi\nStabilire contatti transfrontalieri tra imprese\, industrie\, organizzazioni di supporto\, mondo accademico\, istituzioni e stakeholder\n\n  \nSETTORI INTERESSATI: \n\nAgroalimentare\nCostruzioni\nDigitale\nElettronica\nIndustrie ad alta intensità energetica\nSalute\nMobilità\, Trasporti\, Automotive\nMaterie prime\nEnergie rinnovabili\nTessile\n\n  \nUnisciti a questa piattaforma per entrare in contatto con la comunità imprenditoriale internazionale\, trovare nuovi partner e identificare potenziali fornitori o acquirenti. \nTutti i profili aziendali sono verificati dai partner ufficiali di Enterprise Europe Network per facilitare interazioni sicure e affidabili tra le aziende. \n  \nCLICCA QUI PER REGISTRARE LA TUA AZIENDA GRATUITAMENTE SULLA PIATTAFORMA \n  \nPer ulteriori informazioni è possibile scrivere a een@promofirenze.it. \n  \nUn’iniziativa della rete Enterprise Europe Network\, in collaborazione con la European Cluster Collaboration Platform e con il supporto della Commissione Europea e dell’EISMEA.
URL:https://www.promofirenze.it/evento/the-supply-chain-resilience-platform/
LOCATION:Online
ATTACH;FMTTYPE=image/jpeg:https://www.promofirenze.it/wp-content/uploads/2022/03/supply-chain-investment-platform.jpg
END:VEVENT
BEGIN:VEVENT
DTSTART;TZID=Europe/Rome:20220323T100000
DTEND;TZID=Europe/Rome:20220323T120000
DTSTAMP:20260420T045150
CREATED:20220304T093013Z
LAST-MODIFIED:20241218T141549Z
UID:13174-1648029600-1648036800@www.promofirenze.it
SUMMARY:Webinar Creazione d'Impresa
DESCRIPTION:Agevolazioni: un webinar dedicato al bando Creazione d’Impresa della Regione Toscana
URL:https://www.promofirenze.it/evento/webinar-creazione-dimpresa/
LOCATION:PromoFirenze\, Piazza Dei Giudici\, 3\, Firenze\, 50122\, Italia
CATEGORIES:Webinar
END:VEVENT
BEGIN:VEVENT
DTSTART;TZID=Europe/Rome:20220329T092000
DTEND;TZID=Europe/Rome:20220329T104500
DTSTAMP:20260420T045150
CREATED:20220307T163106Z
LAST-MODIFIED:20250930T152158Z
UID:13192-1648545600-1648550700@www.promofirenze.it
SUMMARY:Webinar: Fare affari con la Cina
DESCRIPTION:PromoFirenze\, in collaborazione con la Camera di Commercio Italiana in Cina\, organizza questo appuntamento con lo scopo di offrire gli strumenti per arrivare preparati al momento di condurre una trattativa d’affari in Cina\, dal primo approccio fino alla conclusione. \nClicca qui per dettagli e iscrizione
URL:https://www.promofirenze.it/evento/webinar-fare-affari-con-la-cina/
LOCATION:Webinar\, online
END:VEVENT
END:VCALENDAR