BEGIN:VCALENDAR
VERSION:2.0
PRODID:-//PromoFirenze - ECPv6.15.8//NONSGML v1.0//EN
CALSCALE:GREGORIAN
METHOD:PUBLISH
X-WR-CALNAME:PromoFirenze
X-ORIGINAL-URL:https://www.promofirenze.it
X-WR-CALDESC:Eventi per PromoFirenze
REFRESH-INTERVAL;VALUE=DURATION:PT1H
X-Robots-Tag:noindex
X-PUBLISHED-TTL:PT1H
BEGIN:VTIMEZONE
TZID:Europe/Rome
BEGIN:DAYLIGHT
TZOFFSETFROM:+0100
TZOFFSETTO:+0200
TZNAME:CEST
DTSTART:20200329T010000
END:DAYLIGHT
BEGIN:STANDARD
TZOFFSETFROM:+0200
TZOFFSETTO:+0100
TZNAME:CET
DTSTART:20201025T010000
END:STANDARD
BEGIN:DAYLIGHT
TZOFFSETFROM:+0100
TZOFFSETTO:+0200
TZNAME:CEST
DTSTART:20210328T010000
END:DAYLIGHT
BEGIN:STANDARD
TZOFFSETFROM:+0200
TZOFFSETTO:+0100
TZNAME:CET
DTSTART:20211031T010000
END:STANDARD
BEGIN:DAYLIGHT
TZOFFSETFROM:+0100
TZOFFSETTO:+0200
TZNAME:CEST
DTSTART:20220327T010000
END:DAYLIGHT
BEGIN:STANDARD
TZOFFSETFROM:+0200
TZOFFSETTO:+0100
TZNAME:CET
DTSTART:20221030T010000
END:STANDARD
END:VTIMEZONE
BEGIN:VEVENT
DTSTART;TZID=Europe/Rome:20210107T160000
DTEND;TZID=Europe/Rome:20210107T180000
DTSTAMP:20260422T042340
CREATED:20210111T092835Z
LAST-MODIFIED:20250310T133100Z
UID:10764-1610035200-1610042400@www.promofirenze.it
SUMMARY:Webinar di approfondimento su bando “Turismo e filiera culturale” Programma "Rinascimento Firenze”
DESCRIPTION:Dal 15 dicembre 2020 al 1 febbraio 2021\, gli operatori dei settori Turismo e Cultura dell’Area Metropolitana possono presentare progetti per ottenere i contributi ed i finanziamenti previsti dal programma “Rinascimento Firenze”\, promosso dalla Fondazione CR Firenze con il partenariato della Camera di Commercio di Firenze. \n\n\n\n\n\n\n\n\n\n\nIl 7 gennaio 2021 alle ore 16 si terrà un webinar di approfondimento tecnico sulle modalità di partecipazione. \nPer iscriverti al webinar clicca qui \nPer maggiori informazioni sul bando\, vai alla pagina ufficiale cliccando qui
URL:https://www.promofirenze.it/evento/webinar-di-approfondimento-su-bando-turismo-e-filiera-culturale-programma-rinascimento-firenze/
LOCATION:PromoFirenze\, Piazza Dei Giudici\, 3\, Firenze\, 50122\, Italia
CATEGORIES:Bandi,Webinar
END:VEVENT
END:VCALENDAR