BEGIN:VCALENDAR
VERSION:2.0
PRODID:-//PromoFirenze - ECPv6.15.8//NONSGML v1.0//EN
CALSCALE:GREGORIAN
METHOD:PUBLISH
X-ORIGINAL-URL:https://www.promofirenze.it
X-WR-CALDESC:Eventi per PromoFirenze
REFRESH-INTERVAL;VALUE=DURATION:PT1H
X-Robots-Tag:noindex
X-PUBLISHED-TTL:PT1H
BEGIN:VTIMEZONE
TZID:Europe/Rome
BEGIN:DAYLIGHT
TZOFFSETFROM:+0100
TZOFFSETTO:+0200
TZNAME:CEST
DTSTART:20190331T010000
END:DAYLIGHT
BEGIN:STANDARD
TZOFFSETFROM:+0200
TZOFFSETTO:+0100
TZNAME:CET
DTSTART:20191027T010000
END:STANDARD
BEGIN:DAYLIGHT
TZOFFSETFROM:+0100
TZOFFSETTO:+0200
TZNAME:CEST
DTSTART:20200329T010000
END:DAYLIGHT
BEGIN:STANDARD
TZOFFSETFROM:+0200
TZOFFSETTO:+0100
TZNAME:CET
DTSTART:20201025T010000
END:STANDARD
BEGIN:DAYLIGHT
TZOFFSETFROM:+0100
TZOFFSETTO:+0200
TZNAME:CEST
DTSTART:20210328T010000
END:DAYLIGHT
BEGIN:STANDARD
TZOFFSETFROM:+0200
TZOFFSETTO:+0100
TZNAME:CET
DTSTART:20211031T010000
END:STANDARD
END:VTIMEZONE
BEGIN:VEVENT
DTSTART;VALUE=DATE:20201211
DTEND;VALUE=DATE:20201212
DTSTAMP:20260421T060646
CREATED:20201201T124919Z
LAST-MODIFIED:20250310T132817Z
UID:10470-1607644800-1607731199@www.promofirenze.it
SUMMARY:WEBINAR DI APPROFONDIMENTO “I FINANZIAMENTI ALLE IMPRESE: CONOSCERE E COGLIERE TUTTE LE OPPORTUNITA'”
DESCRIPTION:La Camera di Commercio di Firenze\, la Regione Toscana\, Unioncamere Bruxelles e PromoFirenze – Azienda Speciale della CCIAA di Firenze\, con il contributo della rete della Commissione europea Enterprise Europe Network\, organizzano un webinar sulle attuali e sulle prossime misure di sostegno finanziario per le aziende toscane e per l’economia del territorio. \nIl webinar si terrà venerdì 11 dicembre dalle ore 9\,00 alle ore 11\,00\, sulla piattaforma GoToWebinar.  \nPROGRAMMA \n9.00-9.15 Giuseppe Salvini – Segretario Generale Camera di Commercio di Firenze – Saluti di benvenuto \n9.15-9.45 Angelita Luciani – Autorità di Gestione del POR-FESR Regione Toscana – Fondi UE per la Toscana la situazione e le prospettive per la nuova programmazione 2021-2027 \n9.45-10.00 Domande e risposte dei partecipanti \n10.00-10.30 Flavio Burlizzi – Direttore Unioncamere Europa –  Quale futuro per i fondi tematici UE \n10.30-10.45 Domande e risposte dei partecipanti \nPer iscriverti vai su https://attendee.gotowebinar.com/register/2707243229872082187 \nLa partecipazione è gratuita
URL:https://www.promofirenze.it/evento/webinar-di-approfondimento-i-finanziamenti-alle-imprese-conoscere-e-cogliere-tutte-le-opportunita/
LOCATION:PromoFirenze\, Piazza Dei Giudici\, 3\, Firenze\, 50122\, Italia
CATEGORIES:Webinar
END:VEVENT
END:VCALENDAR