BEGIN:VCALENDAR
VERSION:2.0
PRODID:-//PromoFirenze - ECPv6.15.8//NONSGML v1.0//EN
CALSCALE:GREGORIAN
METHOD:PUBLISH
X-WR-CALNAME:PromoFirenze
X-ORIGINAL-URL:https://www.promofirenze.it
X-WR-CALDESC:Eventi per PromoFirenze
REFRESH-INTERVAL;VALUE=DURATION:PT1H
X-Robots-Tag:noindex
X-PUBLISHED-TTL:PT1H
BEGIN:VTIMEZONE
TZID:Europe/Rome
BEGIN:DAYLIGHT
TZOFFSETFROM:+0100
TZOFFSETTO:+0200
TZNAME:CEST
DTSTART:20190331T010000
END:DAYLIGHT
BEGIN:STANDARD
TZOFFSETFROM:+0200
TZOFFSETTO:+0100
TZNAME:CET
DTSTART:20191027T010000
END:STANDARD
BEGIN:DAYLIGHT
TZOFFSETFROM:+0100
TZOFFSETTO:+0200
TZNAME:CEST
DTSTART:20200329T010000
END:DAYLIGHT
BEGIN:STANDARD
TZOFFSETFROM:+0200
TZOFFSETTO:+0100
TZNAME:CET
DTSTART:20201025T010000
END:STANDARD
BEGIN:DAYLIGHT
TZOFFSETFROM:+0100
TZOFFSETTO:+0200
TZNAME:CEST
DTSTART:20210328T010000
END:DAYLIGHT
BEGIN:STANDARD
TZOFFSETFROM:+0200
TZOFFSETTO:+0100
TZNAME:CET
DTSTART:20211031T010000
END:STANDARD
END:VTIMEZONE
BEGIN:VEVENT
DTSTART;TZID=Europe/Rome:20201110T160000
DTEND;TZID=Europe/Rome:20201110T173000
DTSTAMP:20260424T061133
CREATED:20201019T090230Z
LAST-MODIFIED:20250930T150445Z
UID:9865-1605024000-1605029400@www.promofirenze.it
SUMMARY:Percorso di avvicinamento al mercato USA Food & Wine
DESCRIPTION:Inizia il percorso per conoscere il Mercato USA del Food & Wine\, i canali di distribuzione\, la normativa. Le raccomandazioni degli esperti. \nPer dettagli e iscrizione qui  \nInfo: exporthub@promofirenze.it
URL:https://www.promofirenze.it/evento/percorso-di-avvicinamento-al-mercato-usa-food-wine/
LOCATION:Webinar\, online
CATEGORIES:Webinar
END:VEVENT
END:VCALENDAR