BEGIN:VCALENDAR
VERSION:2.0
PRODID:-//PromoFirenze - ECPv6.15.8//NONSGML v1.0//EN
CALSCALE:GREGORIAN
METHOD:PUBLISH
X-WR-CALNAME:PromoFirenze
X-ORIGINAL-URL:https://www.promofirenze.it
X-WR-CALDESC:Eventi per PromoFirenze
REFRESH-INTERVAL;VALUE=DURATION:PT1H
X-Robots-Tag:noindex
X-PUBLISHED-TTL:PT1H
BEGIN:VTIMEZONE
TZID:Europe/Rome
BEGIN:DAYLIGHT
TZOFFSETFROM:+0100
TZOFFSETTO:+0200
TZNAME:CEST
DTSTART:20190331T010000
END:DAYLIGHT
BEGIN:STANDARD
TZOFFSETFROM:+0200
TZOFFSETTO:+0100
TZNAME:CET
DTSTART:20191027T010000
END:STANDARD
BEGIN:DAYLIGHT
TZOFFSETFROM:+0100
TZOFFSETTO:+0200
TZNAME:CEST
DTSTART:20200329T010000
END:DAYLIGHT
BEGIN:STANDARD
TZOFFSETFROM:+0200
TZOFFSETTO:+0100
TZNAME:CET
DTSTART:20201025T010000
END:STANDARD
BEGIN:DAYLIGHT
TZOFFSETFROM:+0100
TZOFFSETTO:+0200
TZNAME:CEST
DTSTART:20210328T010000
END:DAYLIGHT
BEGIN:STANDARD
TZOFFSETFROM:+0200
TZOFFSETTO:+0100
TZNAME:CET
DTSTART:20211031T010000
END:STANDARD
END:VTIMEZONE
BEGIN:VEVENT
DTSTART;TZID=Europe/Rome:20201015T120000
DTEND;TZID=Europe/Rome:20201015T133000
DTSTAMP:20260425T013410
CREATED:20200916T123655Z
LAST-MODIFIED:20250930T145619Z
UID:9442-1602763200-1602768600@www.promofirenze.it
SUMMARY:Focus pelletteria e calzature in Giappone e Hong Kong
DESCRIPTION:Il webinar presenterà una panoramica sul mercato giapponese e di Hong Kong\, e approfondirà le opportunità sui settori calzature e pelletteria. \nMaggiori informazioni e modulo di iscrizione disponibili a questo link.
URL:https://www.promofirenze.it/evento/focus-settore-accessori-moda-in-giappone-e-hong-kong/
LOCATION:Webinar\, online
CATEGORIES:Webinar
END:VEVENT
END:VCALENDAR