BEGIN:VCALENDAR
VERSION:2.0
PRODID:-//PromoFirenze - ECPv6.15.8//NONSGML v1.0//EN
CALSCALE:GREGORIAN
METHOD:PUBLISH
X-ORIGINAL-URL:https://www.promofirenze.it
X-WR-CALDESC:Eventi per PromoFirenze
REFRESH-INTERVAL;VALUE=DURATION:PT1H
X-Robots-Tag:noindex
X-PUBLISHED-TTL:PT1H
BEGIN:VTIMEZONE
TZID:Europe/Rome
BEGIN:DAYLIGHT
TZOFFSETFROM:+0100
TZOFFSETTO:+0200
TZNAME:CEST
DTSTART:20220327T010000
END:DAYLIGHT
BEGIN:STANDARD
TZOFFSETFROM:+0200
TZOFFSETTO:+0100
TZNAME:CET
DTSTART:20221030T010000
END:STANDARD
BEGIN:DAYLIGHT
TZOFFSETFROM:+0100
TZOFFSETTO:+0200
TZNAME:CEST
DTSTART:20230326T010000
END:DAYLIGHT
BEGIN:STANDARD
TZOFFSETFROM:+0200
TZOFFSETTO:+0100
TZNAME:CET
DTSTART:20231029T010000
END:STANDARD
BEGIN:DAYLIGHT
TZOFFSETFROM:+0100
TZOFFSETTO:+0200
TZNAME:CEST
DTSTART:20240331T010000
END:DAYLIGHT
BEGIN:STANDARD
TZOFFSETFROM:+0200
TZOFFSETTO:+0100
TZNAME:CET
DTSTART:20241027T010000
END:STANDARD
END:VTIMEZONE
BEGIN:VEVENT
DTSTART;TZID=Europe/Rome:20230510T143000
DTEND;TZID=Europe/Rome:20230510T153000
DTSTAMP:20260420T075958
CREATED:20230418T112117Z
LAST-MODIFIED:20250930T152414Z
UID:18031-1683729000-1683732600@www.promofirenze.it
SUMMARY:Webinar Sanzioni nella Federazione Russa. L'impatto sugli scambi commerciali Italia-Russia.
DESCRIPTION:Si propone alle imprese un webinar gratuito volto a illustrare le sanzioni presenti nella Federazione Russa e l’impatto che queste hanno sull’interscambio bilaterale. \nIl webinar è organizzato in collaborazione con l’ufficio ICE di Mosca. \nL’interscambio Italia-Russa nel 2022 ammonta a 32 297\,9 mln di Euro (+ 49\,8%)\, con un import in Italia dalla Russia di 26 459\,7 milioni di euro (+ 89\,8%) e un export Italia verso Russia di 5 838\,2 mln di Euro (-23\,3%). \nL’export Italia verso la Russia è ripartito nei seguenti settori: \n\nMeccanica                         2 238\,9 mln di Euro\nChimica e Farmaceutica        715\,1 mln di Euro\nSistema Moda                      1 127\,2 mln di Euro\nSistema Casa                          513 mln di Euro\nAgroalimentare e Bevande   619\,4 mln di Euro\nMetalli comuni                      221\,5 mln di Euro\nMezzi di Trasporto                142\,5 mln di Euro\nAltro                                    260\,9 mln di Euro\n\n  \nProgramma \n\nH 14.30 – Apertura del Webinar\, saluti del Segretario Generale della CCIAA di Firenze Giuseppe Salvini\nH 14.40 – Francesco Pensabene\, Direttore Ufficio ICE di Mosca\n\nQuadro economico commerciale della Federazione russa e interscambio bilaterale \n\n\n\nL’Economia della Federazione Russa\nCommercio Estero della Federazione Russa\nInterscambio Italia-Russia\nConcorrenza Internazionale\nSanzioni UE e Contromisure russe\n\n\n\n\nH 15.20 – Domande e risposte\nH 15.30 – Conclusione\n\nCompila la domanda di partecipazione al seguente link entro il 09/05/2023 \nIl seminario si svolgerà su piattaforma GoToWebinar (il link di accesso verrà inviato via mail nei giorni precedenti all’evento). \nPer ulteriori informazioni: exporthub@promofirenze.it
URL:https://www.promofirenze.it/evento/webinar-sanzioni-nella-federazione-russa-limpatto-sugli-scambi-commerciali-italia-russia/
LOCATION:Webinar\, online
CATEGORIES:Webinar
ATTACH;FMTTYPE=image/jpeg:https://www.promofirenze.it/wp-content/uploads/2023/04/immagine-webinar-sanzioni.jpg
END:VEVENT
END:VCALENDAR