BEGIN:VCALENDAR
VERSION:2.0
PRODID:-//PromoFirenze - ECPv6.15.8//NONSGML v1.0//EN
CALSCALE:GREGORIAN
METHOD:PUBLISH
X-ORIGINAL-URL:https://www.promofirenze.it
X-WR-CALDESC:Eventi per PromoFirenze
REFRESH-INTERVAL;VALUE=DURATION:PT1H
X-Robots-Tag:noindex
X-PUBLISHED-TTL:PT1H
BEGIN:VTIMEZONE
TZID:Europe/Rome
BEGIN:DAYLIGHT
TZOFFSETFROM:+0100
TZOFFSETTO:+0200
TZNAME:CEST
DTSTART:20240331T010000
END:DAYLIGHT
BEGIN:STANDARD
TZOFFSETFROM:+0200
TZOFFSETTO:+0100
TZNAME:CET
DTSTART:20241027T010000
END:STANDARD
BEGIN:DAYLIGHT
TZOFFSETFROM:+0100
TZOFFSETTO:+0200
TZNAME:CEST
DTSTART:20250330T010000
END:DAYLIGHT
BEGIN:STANDARD
TZOFFSETFROM:+0200
TZOFFSETTO:+0100
TZNAME:CET
DTSTART:20251026T010000
END:STANDARD
BEGIN:DAYLIGHT
TZOFFSETFROM:+0100
TZOFFSETTO:+0200
TZNAME:CEST
DTSTART:20260329T010000
END:DAYLIGHT
BEGIN:STANDARD
TZOFFSETFROM:+0200
TZOFFSETTO:+0100
TZNAME:CET
DTSTART:20261025T010000
END:STANDARD
END:VTIMEZONE
BEGIN:VEVENT
DTSTART;TZID=Europe/Rome:20251118T150000
DTEND;TZID=Europe/Rome:20251118T170000
DTSTAMP:20260423T091215
CREATED:20251015T112151Z
LAST-MODIFIED:20251114T112611Z
UID:23524-1763478000-1763485200@www.promofirenze.it
SUMMARY:CAPITALE PER CRESCERE - IL MERCATO È APERTO E DISPONIBILE
DESCRIPTION:CICLO DI SEMINARI – STRATEGIE E STRUMENTI PER LA CRESCITA DELLE IMPRESE \n\n\n\nLa Camera di Commercio di Firenze e la sua Azienda Speciale PromoFirenze\, in collaborazione con Borsa Italiana\, Commissione Regionale ABI Toscana\, C&G Capital\, Associazione dei Dottori Commercialisti e degli Esperti Contabili di Firenze\, Fondazione dei Dottori Commercialisti ed Esperti Contabili di Firenze ed Unicredit organizzano\, il prossimo 18 novembre 2025 alle ore 15 presso l’Auditorium della Camera di Commercio di Firenze\, un seminario dedicato al mercato dei capitali.L’incontro ha l’obiettivo di avvicinare le PMI a strumenti finanziari alternativi al credito bancario\, utili per sostenere progetti di crescita\, innovazione\, internazionalizzazione e transizione digitale e sostenibile. \nPer iscriverti gratuitamente al seminario clicca qui \n\n\n\n 
URL:https://www.promofirenze.it/evento/capitale-per-crescere-il-mercato-e-aperto-e-disponibile/
LOCATION:Auditorium della Camera di Commercio di Firenze\, Piazza Mentana\, 1\, Firenze\, 50122\, Italia
CATEGORIES:Seminario formativo
ATTACH;FMTTYPE=image/jpeg:https://www.promofirenze.it/wp-content/uploads/2025/10/mailing.jpg
ORGANIZER;CN="Camera di Commercio di Firenze e PromoFirenze":MAILTO:puntocamera@fi.camcom.it
END:VEVENT
END:VCALENDAR