BEGIN:VCALENDAR
VERSION:2.0
PRODID:-//PromoFirenze - ECPv6.15.8//NONSGML v1.0//EN
CALSCALE:GREGORIAN
METHOD:PUBLISH
X-ORIGINAL-URL:https://www.promofirenze.it
X-WR-CALDESC:Eventi per PromoFirenze
REFRESH-INTERVAL;VALUE=DURATION:PT1H
X-Robots-Tag:noindex
X-PUBLISHED-TTL:PT1H
BEGIN:VTIMEZONE
TZID:Europe/Rome
BEGIN:DAYLIGHT
TZOFFSETFROM:+0100
TZOFFSETTO:+0200
TZNAME:CEST
DTSTART:20240331T010000
END:DAYLIGHT
BEGIN:STANDARD
TZOFFSETFROM:+0200
TZOFFSETTO:+0100
TZNAME:CET
DTSTART:20241027T010000
END:STANDARD
BEGIN:DAYLIGHT
TZOFFSETFROM:+0100
TZOFFSETTO:+0200
TZNAME:CEST
DTSTART:20250330T010000
END:DAYLIGHT
BEGIN:STANDARD
TZOFFSETFROM:+0200
TZOFFSETTO:+0100
TZNAME:CET
DTSTART:20251026T010000
END:STANDARD
BEGIN:DAYLIGHT
TZOFFSETFROM:+0100
TZOFFSETTO:+0200
TZNAME:CEST
DTSTART:20260329T010000
END:DAYLIGHT
BEGIN:STANDARD
TZOFFSETFROM:+0200
TZOFFSETTO:+0100
TZNAME:CET
DTSTART:20261025T010000
END:STANDARD
END:VTIMEZONE
BEGIN:VEVENT
DTSTART;TZID=Europe/Rome:20251104T150000
DTEND;TZID=Europe/Rome:20251104T170000
DTSTAMP:20260421T182513
CREATED:20251016T104314Z
LAST-MODIFIED:20251016T104314Z
UID:23566-1762268400-1762275600@www.promofirenze.it
SUMMARY:CONCILIAZIONE VITA-LAVORO: IL BENESSERE AZIENDALE COME MOTORE DELLA PRODUTTIVITÀ
DESCRIPTION:Per il ciclo di seminari “Strategie e strumenti per la crescita delle imprese”\, la Camera di Commercio di Firenze e PromoFirenze\, in collaborazione con la Regione Toscana\, THEA Group\, Partenariato Vita Lavoro Toscana\, Manageritalia ed HT Value\, organizzano un incontro sul tema dell’equilibrio tra vita professionale e privata\, fondamentale per il benessere individuale e la crescita aziendale. \n\n\n\n  \n\n\n\n 
URL:https://www.promofirenze.it/evento/conciliazione-vita-lavoro-il-benessere-aziendale-come-motore-della-produttivita/
LOCATION:Auditorium della Camera di Commercio di Firenze\, Piazza Mentana\, 1\, Firenze\, 50122\, Italia
CATEGORIES:Seminario formativo
ATTACH;FMTTYPE=image/jpeg:https://www.promofirenze.it/wp-content/uploads/2025/10/Finanza-con-immagine-261x166-1.jpg
END:VEVENT
END:VCALENDAR