BEGIN:VCALENDAR
VERSION:2.0
PRODID:-//PromoFirenze - ECPv6.15.8//NONSGML v1.0//EN
CALSCALE:GREGORIAN
METHOD:PUBLISH
X-ORIGINAL-URL:https://www.promofirenze.it
X-WR-CALDESC:Eventi per PromoFirenze
REFRESH-INTERVAL;VALUE=DURATION:PT1H
X-Robots-Tag:noindex
X-PUBLISHED-TTL:PT1H
BEGIN:VTIMEZONE
TZID:Europe/Rome
BEGIN:DAYLIGHT
TZOFFSETFROM:+0100
TZOFFSETTO:+0200
TZNAME:CEST
DTSTART:20230326T010000
END:DAYLIGHT
BEGIN:STANDARD
TZOFFSETFROM:+0200
TZOFFSETTO:+0100
TZNAME:CET
DTSTART:20231029T010000
END:STANDARD
BEGIN:DAYLIGHT
TZOFFSETFROM:+0100
TZOFFSETTO:+0200
TZNAME:CEST
DTSTART:20240331T010000
END:DAYLIGHT
BEGIN:STANDARD
TZOFFSETFROM:+0200
TZOFFSETTO:+0100
TZNAME:CET
DTSTART:20241027T010000
END:STANDARD
BEGIN:DAYLIGHT
TZOFFSETFROM:+0100
TZOFFSETTO:+0200
TZNAME:CEST
DTSTART:20250330T010000
END:DAYLIGHT
BEGIN:STANDARD
TZOFFSETFROM:+0200
TZOFFSETTO:+0100
TZNAME:CET
DTSTART:20251026T010000
END:STANDARD
END:VTIMEZONE
BEGIN:VEVENT
DTSTART;TZID=Europe/Rome:20240325T090000
DTEND;TZID=Europe/Rome:20240325T163000
DTSTAMP:20260421T124920
CREATED:20240229T141605Z
LAST-MODIFIED:20240322T104056Z
UID:20251-1711357200-1711384200@www.promofirenze.it
SUMMARY:Open Day del Servizio Nuove Imprese - 25 Marzo 2024
DESCRIPTION:Open Day del Servizio Nuove Imprese \n25 marzo\, 9:00 – 16:30  \nBorsa Valori della Camera di Commercio di Firenze \nL’Open Day sarà un’opportunità unica per immergersi nel mondo dell’imprenditorialità e dell’innovazione\, e per scoprire e approfondire tutti i servizi offerti agli aspiranti imprenditori dalla Camera di Commercio di Firenze\, da PromoFirenze \, dal Servizio Nuove Imprese Nazionale\, dagli enti del territorio Fiorentino (Ecosistema fiorentino dell’innovazione) e dagli ordini Professionali. \n  \nProgramma della giornata: \n10.00 – Saluti iniziali a cura del Servizio Nuove Imprese della Camera di Commercio di Firenze – Unioncamere \n10.20 – “Impresa Campus Unifi e spin-off della ricerca” – Chiara Mazzi\, Responsabile Unità di Processo\, KTO Placement e imprenditorialità Università degli Studi di Firenze \n10.30 – “FRI e le opportunità di collaborazione tra giovani\, imprese e Università degli Studi di Firenze” – Alessandro Monti\, General Manager Fondazione per la Ricerca e l’Innovazione \n10.40 – “SSATI e MIP un’unica realtà.” – Guya Berti\, Direttrice della Scuola di Scienze Aziendali e Tecnologie Industriali & Elena Nanni Coordinatrice Incubatore Murate Idea Park \n10.50 – “Nana Bianca – We Try to Build the Future” – Daniele Catalano\, Business Developer Manager Nana Bianca \n11.00 – “ZoWorking Business together!” – Emiliano Caselli CEO & founder ZoWorking \n11.10 – “Dall’Idea alla StartUp\, Cos’è e come funziona un BAN locale” – Lorenzo Ferrara Presidente BusinessAngels.Network \n11.20 – “Where Impact goes to work” – Natalia Costanzo\, Startup Analyst Impact Hub srl SB; Emma Zoppi\, Location Manager Impact Hub Firenze \n11.30 – “Start Up Innovative tra normativa e fiscalità” – Ranieri Mario Cilotti\, Consigliere dell’Ordine dei Dottori Commercialisti ed Esperti Contabili di Firenze\, delegato Nuove Imprese \n11.40 – “La figura del Consulente del Lavoro” – Roberto Beconcini\, Presidente del Consiglio Provinciale dell’Ordine dei C.d.L. di Firenze \n12.00 – Conferenza Stampa \n_________________ \n14.30 – Presentazione prossimi interventi \n14.35 – “I servizi di informazione e orientamento per giovani e donne verso nuove prospettive del mercato del lavoro: Informagiovani\, Informadonna e Europe Direct Firenze” – Cosimo Guccione Assessore Sport\, politiche giovanili\, città della notte\, beni comuni \n14.55 – “L’impresa del futuro è cooperativa” – Irene Mangani\, vicepresidente Legacoop Toscana \n15.05 – “Creare.coop: la call per i giovani a sostegno dei loro progetti d’impresa cooperativa” – Ornela Hysa\, Confcooperative Toscana Nord \n15:15 – “L’importanza di definire un modello di business per accedere alle agevolazioni” – Pierpaolo Chelo\, U.O. Finanza – PromoFirenze \n15.30 – La Camera di Commercio per le imprese \nPer ulteriori informazioni e modalità di partecipazione all’evento contattare: nuoveimprese@fi.camcom.it
URL:https://www.promofirenze.it/evento/open-day-del-servizio-nuove-imprese-25-marzo-2024/
LOCATION:Sala Borsa della Camera di Commercio di Firenze\, Piazza Mentana\, 1\, Firenze\, 50122\, Italia
CATEGORIES:Consulenza,Seminario formativo
ATTACH;FMTTYPE=image/jpeg:https://www.promofirenze.it/wp-content/uploads/2024/02/open-day.jpg
END:VEVENT
END:VCALENDAR