BEGIN:VCALENDAR
VERSION:2.0
PRODID:-//PromoFirenze - ECPv6.15.8//NONSGML v1.0//EN
CALSCALE:GREGORIAN
METHOD:PUBLISH
X-ORIGINAL-URL:https://www.promofirenze.it
X-WR-CALDESC:Eventi per PromoFirenze
REFRESH-INTERVAL;VALUE=DURATION:PT1H
X-Robots-Tag:noindex
X-PUBLISHED-TTL:PT1H
BEGIN:VTIMEZONE
TZID:Europe/Rome
BEGIN:DAYLIGHT
TZOFFSETFROM:+0100
TZOFFSETTO:+0200
TZNAME:CEST
DTSTART:20240331T010000
END:DAYLIGHT
BEGIN:STANDARD
TZOFFSETFROM:+0200
TZOFFSETTO:+0100
TZNAME:CET
DTSTART:20241027T010000
END:STANDARD
BEGIN:DAYLIGHT
TZOFFSETFROM:+0100
TZOFFSETTO:+0200
TZNAME:CEST
DTSTART:20250330T010000
END:DAYLIGHT
BEGIN:STANDARD
TZOFFSETFROM:+0200
TZOFFSETTO:+0100
TZNAME:CET
DTSTART:20251026T010000
END:STANDARD
BEGIN:DAYLIGHT
TZOFFSETFROM:+0100
TZOFFSETTO:+0200
TZNAME:CEST
DTSTART:20260329T010000
END:DAYLIGHT
BEGIN:STANDARD
TZOFFSETFROM:+0200
TZOFFSETTO:+0100
TZNAME:CET
DTSTART:20261025T010000
END:STANDARD
END:VTIMEZONE
BEGIN:VEVENT
DTSTART;TZID=Europe/Rome:20250529T143000
DTEND;TZID=Europe/Rome:20250529T163000
DTSTAMP:20260420T150342
CREATED:20250513T125749Z
LAST-MODIFIED:20251003T103218Z
UID:23019-1748529000-1748536200@www.promofirenze.it
SUMMARY:Webinar gratuito - Addio TULD\, benvenuto futuro: le nuove regole doganali\, opportunità e sfide per gli operatori economici
DESCRIPTION:PromoFirenze\, Azienda Speciale della Camera di Commercio di Firenze\, e Camera di Commercio di Firenze\, in collaborazione con l’Agenzia delle Dogane e dei Monopoli e con il Consiglio Territoriale degli Spedizionieri Doganali della Toscana e Umbria\, organizzano il webinar di approfondimento “Addio TULD\, benvenuto futuro: le nuove regole doganali\, opportunità e sfide per gli operatori economici”. \nIl webinar ha lo scopo di fornire una panoramica chiara e sintetica sulle principali novità introdotte dal D.Lgs. 141/2024\, con particolare attenzione agli aspetti operativi e alle implicazioni per gli operatori economici. Rappresenta inoltre un’opportunità per comprendere le nuove regole e per confrontarsi sulle strategie di adeguamento\, favorendo una gestione più efficace delle operazioni doganali e fiscali. \nIl seminario si svolgerà giovedì 29 maggio 2025 su piattaforma GoToWebinar (il link di accesso verrà inviato via mail al momento dell’iscrizione). \n  \nProgramma \n\n14.30 – Saluti introduttivi della CCIAA di Firenze / PromoFirenze\n14.35 – Saluti introduttivi di Maurizio Macera\, Presidente del Consiglio Territoriale degli Spedizionieri Doganali della Toscana e Umbria\n14.40 – Alberto Siniscalchi e Gaetano Sassone\, Direzione Territoriale Toscana e Umbria\nIl contesto normativo e le finalità del Decreto Legislativo 141/2024\nLe novità principali\nLa revisione del sistema sanzionatorio\nViolazioni doganali e nuove penalità\nConclusioni e prospettive future\n16.20 – Interventi e domande\n16.30 – Chiusura dei lavori\n\n  \nIl seminario verrà registrato e il link di accesso al video sarà inviato a tutti gli iscritti. \nPromoFirenze potrà rilasciare un attestato di partecipazione\, su richiesta da indicare nel modulo di adesione. \nSaranno riconosciuti n. 2 crediti formativi professionali dal Consiglio Territoriale degli Spedizionieri Doganali della Toscana e Umbria agli Spedizionieri Doganali iscritti all’Albo e partecipanti per tutta la durata del webinar. \nPer l’iscrizione al seminario compilare il form cliccando sul MODULO DI ADESIONE \nPer informazioni è possibile scrivere a PromoFirenze\, exporthub1@promofirenze.it o contattare 055 2671 501.
URL:https://www.promofirenze.it/evento/webinar-gratuito-addio-tuld-benvenuto-futuro-le-nuove-regole-doganali-opportunita-e-sfide-per-gli-operatori-economici/
CATEGORIES:Seminario formativo,Webinar
ATTACH;FMTTYPE=image/png:https://www.promofirenze.it/wp-content/uploads/2025/05/Striscia-loghi.png
ORGANIZER;CN="Camera di Commercio di Firenze e PromoFirenze %2C in collaborazione con l%E2%80%99Agenzia delle Dogane e dei Monopoli e con il Consiglio Territoriale degli Spedizionieri Doganali della Toscana e Umbria":MAILTO:puntocamera@fi.camcom.it
END:VEVENT
END:VCALENDAR