BEGIN:VCALENDAR
VERSION:2.0
PRODID:-//PromoFirenze - ECPv6.15.8//NONSGML v1.0//EN
CALSCALE:GREGORIAN
METHOD:PUBLISH
X-WR-CALNAME:PromoFirenze
X-ORIGINAL-URL:https://www.promofirenze.it
X-WR-CALDESC:Eventi per PromoFirenze
REFRESH-INTERVAL;VALUE=DURATION:PT1H
X-Robots-Tag:noindex
X-PUBLISHED-TTL:PT1H
BEGIN:VTIMEZONE
TZID:Europe/Rome
BEGIN:DAYLIGHT
TZOFFSETFROM:+0100
TZOFFSETTO:+0200
TZNAME:CEST
DTSTART:20230326T010000
END:DAYLIGHT
BEGIN:STANDARD
TZOFFSETFROM:+0200
TZOFFSETTO:+0100
TZNAME:CET
DTSTART:20231029T010000
END:STANDARD
BEGIN:DAYLIGHT
TZOFFSETFROM:+0100
TZOFFSETTO:+0200
TZNAME:CEST
DTSTART:20240331T010000
END:DAYLIGHT
BEGIN:STANDARD
TZOFFSETFROM:+0200
TZOFFSETTO:+0100
TZNAME:CET
DTSTART:20241027T010000
END:STANDARD
BEGIN:DAYLIGHT
TZOFFSETFROM:+0100
TZOFFSETTO:+0200
TZNAME:CEST
DTSTART:20250330T010000
END:DAYLIGHT
BEGIN:STANDARD
TZOFFSETFROM:+0200
TZOFFSETTO:+0100
TZNAME:CET
DTSTART:20251026T010000
END:STANDARD
END:VTIMEZONE
BEGIN:VEVENT
DTSTART;VALUE=DATE:20240322
DTEND;VALUE=DATE:20240325
DTSTAMP:20260423T234100
CREATED:20230622T082818Z
LAST-MODIFIED:20250307T114644Z
UID:18613-1711065600-1711324799@www.promofirenze.it
SUMMARY:Mostra mercato di alto artigianato artistico internazionale "YouNique"
DESCRIPTION:Nell’ambito del progetto “Mostre mercato in Europa”\, promosso da PromoFirenze per permettere alle realtà artigiane fiorentine di entrare in contatto con clientela estera in mercati dall’alto potere d’acquisto\, proponiamo una mostra mercato di alto artigianato artistico: \nYouNique\n(www.younique-experience.com) \nLugano (Svizzera)\, 22 -24 marzo 2024\n\nrivolto ad imprese di \nartigianato artistico e di design\, complemento d’arredo e oggettistica di lusso\, gioielleria e opere d’arte \n(e quindi anche gallerie d’arte). \n  \nLa magnifica cornice di Villa Ciani (36 sale divise su 3 piani)\, a ridosso del lago di Lugano contribuisce a dare all’intera manifestazione un’atmosfera assolutamente unica. Dei circa 3.000 visitatori\, composto da un pubblico privato con alta capacità di spesa\, architetti\, arredatori e designer alla ricerca di pezzi unici\, per sé o per i propri committenti\, oltre il 90% sarà su invito\, per garantire agli espositori un pubblico di standing sempre più elevato\, in linea con l’eccezionalità del percorso espositivo. \n  \nProgramma: \nVenerdì 22 marzo   \n\ndalle ore10:00 alle ore 16:00 – Apertura riservata agli operatori (B2B)\,\ndalle ore 17:00 – Première dedicata a circa 300 ospiti VIP con un’apertura straordinaria e programmi speciali\n\nSabato 23 e Domenica 24 marzo  \n\napertura al pubblico\n\n  \nCome partecipare (costi e tempi):  \nCompilare la propria candidatura sul FORM (non vincolante) entro il 13.11.2023\, prorogata al 21.12.2023\, per essere valutati dall’ente organizzatore ed essere ammessi alla partecipazione. I posti sono disponibili fino ad esaurimento. \nIl costo dello stand al mq è pari a € 195\,00 + iva\nLa quota d’iscrizione è pari a € 215\,00 + iva ed è comprensiva di: \nLa quota d’iscrizione è comprensiva di:  \n\nallaccio corrente a 220 V (presa svizzera) nel punto della sala indicato dalla planimetria\ninserimento con pagina dedicata su younique-experience.com\npost dedicati sulla pagina Facebook e sull’account Instagram di YouNique Experience\ninviti gratuiti riservati\npulizie generali\nwi-fi\, riscaldamento e consumi elettrici\n\nAi costi dovrà essere applicata una fee di segreteria pari al 10%. \nPer le aziende iscritte alla Camera di Commercio di Firenze\, PromoFirenze potrà intervenire sui costi con una agevolazione in de minimis fino al 50% (nei limiti delle risorse disponibili e nel rispetto dei requisiti richiesti da avviso allegato*). \n  \nPer info: exporthub@promofirenze.it
URL:https://www.promofirenze.it/evento/mostra-di-alto-artigianato-artistico-internazionale-younique/
LOCATION:Lugano\, Svizzera
CATEGORIES:Mostra mercato (B2C)
ATTACH;FMTTYPE=image/png:https://www.promofirenze.it/wp-content/uploads/2023/06/Younique.png
END:VEVENT
END:VCALENDAR