BEGIN:VCALENDAR
VERSION:2.0
PRODID:-//PromoFirenze - ECPv6.15.8//NONSGML v1.0//EN
CALSCALE:GREGORIAN
METHOD:PUBLISH
X-ORIGINAL-URL:https://www.promofirenze.it
X-WR-CALDESC:Eventi per PromoFirenze
REFRESH-INTERVAL;VALUE=DURATION:PT1H
X-Robots-Tag:noindex
X-PUBLISHED-TTL:PT1H
BEGIN:VTIMEZONE
TZID:Europe/Rome
BEGIN:DAYLIGHT
TZOFFSETFROM:+0100
TZOFFSETTO:+0200
TZNAME:CEST
DTSTART:20240331T010000
END:DAYLIGHT
BEGIN:STANDARD
TZOFFSETFROM:+0200
TZOFFSETTO:+0100
TZNAME:CET
DTSTART:20241027T010000
END:STANDARD
BEGIN:DAYLIGHT
TZOFFSETFROM:+0100
TZOFFSETTO:+0200
TZNAME:CEST
DTSTART:20250330T010000
END:DAYLIGHT
BEGIN:STANDARD
TZOFFSETFROM:+0200
TZOFFSETTO:+0100
TZNAME:CET
DTSTART:20251026T010000
END:STANDARD
BEGIN:DAYLIGHT
TZOFFSETFROM:+0100
TZOFFSETTO:+0200
TZNAME:CEST
DTSTART:20260329T010000
END:DAYLIGHT
BEGIN:STANDARD
TZOFFSETFROM:+0200
TZOFFSETTO:+0100
TZNAME:CET
DTSTART:20261025T010000
END:STANDARD
END:VTIMEZONE
BEGIN:VEVENT
DTSTART;TZID=Europe/Rome:20251212T093000
DTEND;TZID=Europe/Rome:20251214T180000
DTSTAMP:20260425T002106
CREATED:20251003T135420Z
LAST-MODIFIED:20251022T130946Z
UID:23457-1765531800-1765735200@www.promofirenze.it
SUMMARY:Partecipazione a Castanea Expo 2025 in forma agevolata
DESCRIPTION:PromoFirenze propone la partecipazione\, in forma agevolata\, alle imprese della provincia di Firenze del comparto della castanicoltura\, alla prima edizione della manifestazione a carattere nazionale denominata CASTANEA EXPO 2025: partecipazione con stand preallestito alla prima fiera di filiera\, volta a mettere in contatto le numerose realtà che operano nel vivaismo\, in agronomia\, nella tecnologia\, nella trasformazione\, nell’innovazione di prodotti alimentari\, nel commercio\, nel turismo\, nella promozione di modelli economici sostenibili e nelle realtà montane. \nQuesto spazio sarà dedicato alla vendita diretta\, al tasting e alla promozione dei prodotti dal 12 al 14 dicembre 2025\, con ingresso libero al pubblico su registrazione. \nScarica qui:\nAvviso riapertura termini Castanea 2025\nAvviso partecipazione Castanea 2025\n  \nSETTORI ESPOSITIVI AMMESSI: \n\nLAVORI NELLE SELVE\nLAVORAZIONI POST RACCOLTO\nFARINE\nTRASFORMAZIONI ALIMENTARI\nGASTRONOMIA\nTURISMO\n\n  \nCATEGORIE: \n\nSTRUMENTI E TECNOLOGIE PER LA CONDUZIONE DEI CASTAGNETI\nMACCHINE PER LA RACCOLTA\, SELEZIONE\, CONSERVAZIONE\nATTREZZATURE E UTENSILI PER I LAVORI NEL BOSCO\nMACCHINE ATTREZZATURE E TECNOLOGIE PER IL SETTORE LEGNO\nABBIGLIAMENTO DA LAVORO E TREKKING\nMACCHINE E TECNOLOGIA PER LA ESSICAZIONE\, PELATURA\, IL SOTTOVUOTO\nMULINI PER LA PRODUZIONE DI FARINE\nLINEE DI CONFEZIONAMENTO\nPRODUZIONI ALIMENTARI TRADIZIONALI\nPRODUZIONI ALIMENTARI DI PASTICCERIA\nPRODOTTI E PREPARAZIONI GOURMET\nPRODUZIONI ALIMENTARI INNOVATIVE SNACK BARRETTE ECC\nTOUR OPERATOR\, AGENZIE DI VIAGGIO\, DMC\, AGRITURISMI\nOPERATORI ECONOMICI DEL COMMERCIO E DISTRIBUZIONE TRADIZIONALE E GDO\n\n  \nCOSTI IN FORMA AGEVOLATA E SERVIZI OFFERTI: \nLa partecipazione delle imprese è prevista in forma agevolata. \nCosto per l’acquisto per ogni modulo/stand 3×3 mq da parte di ogni impresa partecipante pari ad € 820\,00 + Iva 22% \nAlle imprese ammesse\, verrà imputata un’agevolazione in regime “de minimis” pari ad un importo massimo di € 984\,00 per ogni modulo di stand acquistato. \nIl costo di partecipazione include: \n\niscrizione alla fiera come espositore\ndotazione a ciascuna azienda di uno stand con un modulo 3×3 mq. preallestito premium composto da: frontale con nome – pannelli H mt 2\,50 – 1 reception1 sgabello – 3 faretti – 1 presa elettrica – ripostiglio chiuso.\ntale spazio sarà dedicato alla vendita diretta\, al tasting e alla promozione dei prodotti dal 12 al 14 dicembre 2025\, con ingresso libero al pubblico su registrazione.\n\n  \nPer ulteriori informazioni: castanea@promofirenze.it \nEntro le ore 13:00 del 03/11/2025 Invia la domanda di partecipazione
URL:https://www.promofirenze.it/evento/partecipazione-a-castanea-expo-2025-in-forma-agevolata/
CATEGORIES:Evento promozionale,Fiere
ATTACH;FMTTYPE=image/jpeg:https://www.promofirenze.it/wp-content/uploads/2025/10/immagine-castanea-con-date.jpg
END:VEVENT
END:VCALENDAR