BEGIN:VCALENDAR
VERSION:2.0
PRODID:-//PromoFirenze - ECPv6.15.8//NONSGML v1.0//EN
CALSCALE:GREGORIAN
METHOD:PUBLISH
X-ORIGINAL-URL:https://www.promofirenze.it
X-WR-CALDESC:Eventi per PromoFirenze
REFRESH-INTERVAL;VALUE=DURATION:PT1H
X-Robots-Tag:noindex
X-PUBLISHED-TTL:PT1H
BEGIN:VTIMEZONE
TZID:Europe/Rome
BEGIN:DAYLIGHT
TZOFFSETFROM:+0100
TZOFFSETTO:+0200
TZNAME:CEST
DTSTART:20250330T010000
END:DAYLIGHT
BEGIN:STANDARD
TZOFFSETFROM:+0200
TZOFFSETTO:+0100
TZNAME:CET
DTSTART:20251026T010000
END:STANDARD
BEGIN:DAYLIGHT
TZOFFSETFROM:+0100
TZOFFSETTO:+0200
TZNAME:CEST
DTSTART:20260329T010000
END:DAYLIGHT
BEGIN:STANDARD
TZOFFSETFROM:+0200
TZOFFSETTO:+0100
TZNAME:CET
DTSTART:20261025T010000
END:STANDARD
BEGIN:DAYLIGHT
TZOFFSETFROM:+0100
TZOFFSETTO:+0200
TZNAME:CEST
DTSTART:20270328T010000
END:DAYLIGHT
BEGIN:STANDARD
TZOFFSETFROM:+0200
TZOFFSETTO:+0100
TZNAME:CET
DTSTART:20271031T010000
END:STANDARD
END:VTIMEZONE
BEGIN:VEVENT
DTSTART;TZID=Europe/Rome:20260701T080000
DTEND;TZID=Europe/Rome:20260702T170000
DTSTAMP:20260421T005417
CREATED:20251125T143524Z
LAST-MODIFIED:20260216T163426Z
UID:23720-1782892800-1783011600@www.promofirenze.it
SUMMARY:Food Beverage Horeca Equipment @ Singapore  IFBS 01-02 luglio 2026
DESCRIPTION:PromoFirenze promuove la 8° edizione di Italian Food and Beverage in Singapore (IFBS) organizzata dalla Camera di Commercio Italiana a Singapore presso il Centro Congressi Suntec Singapore\, 1 e 2 luglio 2026. \nUn evento di incontri b2b rivolto alle aziende italiane dei settori Food\, Wine\, Spirits & Ho.Re.Ca Equipment che potranno incontrare operatori dell’area Asia-Pacifico: Singapore\, Malaysia\, Indonesia\, Vietnam\, Giappone\, Australia\, Hong Kong\, Thailandia\, Corea del sud\, Filippine e Cambogia. \nSettori di maggiore interesse: pane e pasta\, contorni e antipasti\, formaggi\, dolci\, prodotti bio e vegan\, condimenti\, vini e distillati\, ampliando l’offerta anche al settore ho.re.ca. equipment \nDurante l’ultima edizione\, oltre 30 espositori hanno partecipato all’evento\, con più di 600 visitatori e 50 buyer provenienti da tutta l’Asia. Durante l’evento sono stati organizzati in media 25 incontri per azienda\, per un totale di 1200 incontri B2B nei due giorni della manifestazione. \nIn sintesi è previsto: \n\nAgenda per 2 giorni di incontri B2B pre-organizzata con buyer profilati\, costruita dai referenti commerciali nei mesi di promozione e consegnata prima dell’evento;\nAccompagnamento dei referenti prima\, durante e dopo le giornate per presentazioni\, negoziazioni e follow-up. All’avvio\, ogni azienda ha una videochiamata individuale con il Referente assegnato per allineare obiettivi\, priorità di mercato e posizionamento prodotto\nFollow-up: invio materiali e campioni\, raccolta feedback di prezzo/pack/formati\, definizione delle condizioni e supporto alla negoziazione fino ai test ordini\n\nCOSTI DI PARTECIPAZIONE \n1.870 € + IVA 22 % Costo con agevolazione 50% in regime de minimis. Per le aziende iscritte alla CCIAA di Firenze \n 3.740 € + IVA 22 % Costo senza agevolazione \nLa quota comprende: \nSpazio espositivo dedicato presso il Centro Congressi Suntec Singapore\, comprensivo di: \n1 tavolo (ca. 180×75 cm) con tovaglia\, sputacchiera Cavatappi\, stopper e 1 caraffa per tavolo (per azienda del settore vino)\, Tovaglioli\, piatti\, posate e bicchieri\, Foam box e ghiaccio (per azienda). Accesso agli spazi comuni attrezzati con frigoriferi\, freezer\, forni\, microonde e piastre a induzione. \nSpedizione pallet Italia–Singapore in container a temperatura controllata via mare (6–8 settimane) max 50 kg. \nLa merce non è soggetta a dazi doganali\, ad eccezione dei prodotti alcolici\, soggetti a tariffazione come da tabella nei “costi extra” nel file allegato. Organizzazione del groupage in Italia e assistenza nella gestione dei documenti accompagnatori. Sdoganamento a Singapore e gestione delle pratiche burocratiche. \nDeposito pallet in magazzini a temperatura controllata dal giorno dello sdoganamento fino all’evento Trasporto della merce dal magazzino al Suntec Convention Centre il giorno precedente l’allestimento. \nPer manifestare il vostro interesse potete compilare il company profile (non impegnativo) ed inviarlo a exporthub@promofirenze.it\, così da poter verificare i criteri per accedere alle tariffe agevolate (regolarità DURC e del pagamento diritto annuale alla camera di commercio di Firenze). \nSaranno ammesse alla partecipazione con agevolazione le prime 5 aziende in ordine cronologico e ritenute idonee alla partecipazione dallo staff della Camera di Commercio Italiana di Singapore. Scadenza per invio adesione 13 febbraio 2026 – CHIUSE ADESIONI CON AGEVOLAZIONE \nPer ricevere maggiori dettagli  \nFissa un appuntamento con PromoFirenze e la Camera di Commercio Italiana di Singapore   \n055-26.71.402 o exporthub@promofirenze.it 
URL:https://www.promofirenze.it/evento/food-beverage-horeca-equipment-singapore-ifbs-01-02-luglio-2026/
LOCATION:Suntec Convention & Exhibition Centre// Nicoll 1-2\, Raffles Boulevard 1\, Singapore
CATEGORIES:B2B
ATTACH;FMTTYPE=image/jpeg:https://www.promofirenze.it/wp-content/uploads/2023/01/e-commerce-singapore.jpg
END:VEVENT
END:VCALENDAR