BEGIN:VCALENDAR
VERSION:2.0
PRODID:-//PromoFirenze - ECPv6.15.8//NONSGML v1.0//EN
CALSCALE:GREGORIAN
METHOD:PUBLISH
X-WR-CALNAME:PromoFirenze
X-ORIGINAL-URL:https://www.promofirenze.it
X-WR-CALDESC:Eventi per PromoFirenze
REFRESH-INTERVAL;VALUE=DURATION:PT1H
X-Robots-Tag:noindex
X-PUBLISHED-TTL:PT1H
BEGIN:VTIMEZONE
TZID:Europe/Rome
BEGIN:DAYLIGHT
TZOFFSETFROM:+0100
TZOFFSETTO:+0200
TZNAME:CEST
DTSTART:20250330T010000
END:DAYLIGHT
BEGIN:STANDARD
TZOFFSETFROM:+0200
TZOFFSETTO:+0100
TZNAME:CET
DTSTART:20251026T010000
END:STANDARD
BEGIN:DAYLIGHT
TZOFFSETFROM:+0100
TZOFFSETTO:+0200
TZNAME:CEST
DTSTART:20260329T010000
END:DAYLIGHT
BEGIN:STANDARD
TZOFFSETFROM:+0200
TZOFFSETTO:+0100
TZNAME:CET
DTSTART:20261025T010000
END:STANDARD
BEGIN:DAYLIGHT
TZOFFSETFROM:+0100
TZOFFSETTO:+0200
TZNAME:CEST
DTSTART:20270328T010000
END:DAYLIGHT
BEGIN:STANDARD
TZOFFSETFROM:+0200
TZOFFSETTO:+0100
TZNAME:CET
DTSTART:20271031T010000
END:STANDARD
END:VTIMEZONE
BEGIN:VEVENT
DTSTART;TZID=Europe/Rome:20260101T080000
DTEND;TZID=Europe/Rome:20261231T170000
DTSTAMP:20260422T013916
CREATED:20260130T142635Z
LAST-MODIFIED:20260130T143349Z
UID:23924-1767254400-1798736400@www.promofirenze.it
SUMMARY:Accedi ai servizi ExportHub in forma agevolata
DESCRIPTION:Aperto da gennaio il nuovo avviso per l’erogazione dei servizi di internazionalizzazione offerti da PromoFirenze\, con la possibilità per le aziende iscritte alla Camera di Commercio di Firenze di richiedere tariffe agevolate al 50%.  \nIl progetto ExportHub di PromoFirenze prevede azioni finalizzate ad aiutare le imprese del territorio a trovare sbocco sui mercati internazionali e a rafforzare la loro presenza all’estero\, attraverso la costruzione di percorsi di orientamento e assistenza individuale\, tra i quali: \n\nRicerca partner esteri\, per individuare partner commerciali verificati\, in target con il profilo e le richieste dell’impresa\nRicerca di mercato su prodotti e settori specifici\, per verificare le potenzialità di sviluppo e penetrazione\, le caratteristiche del mercato\, la richiesta dei clienti\, i competitor già attivi\nPartecipazione a specifici progetti all’estero\, selezionati e proposti da PromoFirenze\, di carattere promozionale o commerciale\nServizi individuali richiesti dall’impresa al fine di ricevere supporto e/o informazioni specifici\n\n\nRequisiti di accesso\nL’avviso consente di richiedere l’accesso ai servizi per le imprese che rispettino gli specifici parametri previsti: \n\nessere impresa attiva\, non in liquidazione\, ed iscritta al Registro imprese della Camera di Commercio di Firenze;\nessere in regola con i pagamenti del diritto annuale alla Camera di Commercio di Firenze e con quelli per i servizi di PromoFirenze;\nessere in regola con il DURC\n\nInoltre\, per poter richiedere l’erogazione dei servizi con agevolazione del 50% in regime de minimis\, le imprese devono soddisfare ulteriori requisiti: \n\nessere una micro\, piccola e media impresa (MPMI)\nessere in regola con l’obbligo assicurativo contro i danni catastrofali (qualora si rientri fra i soggetti obbligati)\n\nI servizi dovranno essere richiesti e concordati con l’ufficio ExportHub di PromoFirenze\, che invierà all’impresa un preventivo in base alla specifica richiesta. L’agevolazione massima ottenibile in un anno è pari a 5.000\,00 €\, anche suddivisa su più servizi. \n  \nScadenza 31.12.2026 \nLe imprese interessate a ricevere maggiori dettagli possono contattare l’ufficio ExportHub: exporthub@promofirenze.it
URL:https://www.promofirenze.it/evento/accedi-ai-servizi-exporthub-in-forma-agevolata/
CATEGORIES:Bandi
ATTACH;FMTTYPE=image/jpeg:https://www.promofirenze.it/wp-content/uploads/2026/01/w02757-small.jpg
END:VEVENT
BEGIN:VEVENT
DTSTART;TZID=Europe/Rome:20260401T000000
DTEND;TZID=Europe/Rome:20260630T000000
DTSTAMP:20260422T013916
CREATED:20260128T162529Z
LAST-MODIFIED:20260409T145505Z
UID:23914-1775001600-1782777600@www.promofirenze.it
SUMMARY:Corsi Business English aprile 2026 in forma agevolata
DESCRIPTION:Ripartono anche quest’anno i corsi di miglioramento linguistico sul Business English proposti da PromoFirenze alle imprese fiorentine in forma agevolata. \nScarica qui l’avviso completo\nIl corso è gestito da PromoFirenze e tenuto da Wall Street English\, scuola con esperienza pluriennale nell’effettuazione di corsi di lingua. Gli insegnanti saranno madrelingua e/o bilingue certificati\, ed utilizzeranno materiali didattici digitali prodotti e distribuiti da/per Wall Street English. I corsi verranno svolti online.  \nOFFERTA DIDATTICA \nProposta pensata per differenti livelli linguistici e per profili dirigenziali o commerciali che conoscono già l’inglese\, ma che necessitano di migliorarlo\, di stimoli e approfondimenti su argomenti di business e attualità. Per i livelli più bassi\, il corso con la stessa struttura\, verterà su argomenti di General English. \nIl corso di gruppo prevede minimo 3 e massimo 6 partecipanti\, sarà completato in 12 settimane\, con un incontro on-line una volta a settimana in un giorno fisso tra il lunedì e il venerdì nelle fasce orarie 13:00-15:00 o 18:00 – 20:00\, con durata di 90 minuti con l’insegnante e con una parte di esercizi di consolidamento\, da svolgere su una piattaforma professionale dedicata web o App che sarà messa a disposizione dalla scuola e per la quale ogni partecipante avrà proprie credenziali di accesso. \nAl termine del corso\, verificata con gli insegnanti la presenza effettiva che dovrà essere pari almeno al 75%\, verrà rilasciato un attestato. \nDESTINATARI E PARAMETRI DI AMMISSIONE \nSono ammesse a partecipare le imprese che rispettino i parametri di ammissione descritti nell’avviso. \nPer presentare la propria domanda di partecipazione\, è necessario compilare il form disponibile a questo link entro e non oltre il 19/02/2026. \nSarà data la possibilità di partecipazione ad una persona per azienda\, fino ad esaurimento posti. Qualora vi fossero ancora posti disponibili nei corsi attivati\, verrà data la possibilità di adesione ad ulteriori persone della stessa azienda. I richiedenti potranno essere ammessi soltanto se si raggiungerà il numero minimo di persone per formare il gruppo appartenente al loro livello linguistico. \nCOSTI E CONTRIBUTO DE MINIMIS \n\nLa quota di iscrizione per la partecipazione in forma non agevolata è di € 400\,00 + Iva a partecipante.\nLa quota di iscrizione per la partecipazione in forma agevolata\, per le imprese di cui all’Art. 3 dell’avviso\, è di € 150\,00 + Iva a partecipante. Ai partecipanti in forma agevolata viene richiesto di versare una cauzione di € 100\,00. La cauzione verrà restituita\, una volta verificata con gli insegnanti la presenza effettiva\, a completamento di almeno il 75% del corso con l’insegnante. Tutte le imprese beneficiarie dell’agevolazione\, verranno iscritte nel Registro Nazionale degli Aiuti di Stato per un importo massimo di € 455\,00 ognuna.\n\nPer ulteriori informazioni: exporthub1@promofirenze.it \nEntro 19/02/2025 Invia la domanda di partecipazione
URL:https://www.promofirenze.it/evento/corsi-business-english-aprile-2026-in-forma-agevolata/
LOCATION:Online
CATEGORIES:Corso
ATTACH;FMTTYPE=image/jpeg:https://www.promofirenze.it/wp-content/uploads/2023/02/immagine-bandiera-uk.jpg
END:VEVENT
BEGIN:VEVENT
DTSTART;VALUE=DATE:20260422
DTEND;VALUE=DATE:20260423
DTSTAMP:20260422T013916
CREATED:20260309T142441Z
LAST-MODIFIED:20260417T124009Z
UID:24054-1776816000-1776902399@www.promofirenze.it
SUMMARY:Open Day  Servizio Nuove Imprese -  22 aprile 2026
DESCRIPTION:Se stai pensando di intraprendere una nuova avventura imprenditoriale o se il tuo progetto è già in fase di avvio\, ti invitiamo all’Open Day del Servizio Nuove Imprese della Camera di Commercio di Firenze\, mercoledì 22 Aprile dalle 10:00 alle 16:00 in Piazza Mentana\, 2. \n\n\n\nL’Open Day sarà l’occasione per incontrare esperti del settore e approfondire tutti i servizi offerti agli aspiranti imprenditori dalla Camera di Commercio di Firenze\, da PromoFirenze\, dal Servizio Nuove Imprese Nazionale e dagli Enti del territorio fiorentino che collaborano alla rete dell’Hub dell’Innovazione.\n\n La giornata inoltre prevede un confronto sul tema della sostenibilità con particolare attenzione al turismo responsabile e alle nuove esigenze del settore\, seguito dalla presentazione dei progetti elaborati dagli studenti finalisti dei workshop sull’avvio d’impresa. \nSaranno poi illustrati contributi\, servizi e strumenti che la Camera di Commercio e PromoFirenze mettono a disposizione per sostenere lo sviluppo di nuove iniziative imprenditoriali.\nScarica il programma completo ➜ PROGRAMMA \n\nRimani aggiornato sul gruppo Facebook dell’evento: https://fb.me/e/7dcYw42H7\n\n\nPer maggiori informazioni scrivi a nuoveimprese@fi.camcom.it\n\n\n\nEvento con la collaborazione di:\n     \n\n\n\n                        
URL:https://www.promofirenze.it/evento/open-day-servizio-nuove-imprese-22-aprile-2026/
LOCATION:Sala Borsa della Camera di Commercio di Firenze\, Piazza Mentana\, 1\, Firenze\, 50122\, Italia
CATEGORIES:Autoimprenditorialità
ATTACH;FMTTYPE=image/png:https://www.promofirenze.it/wp-content/uploads/2026/03/opendaySNI.png
ORGANIZER;CN="Servizio Nuove Imprese - PromoFirenze":MAILTO:nuoveimprese@fi.camcom.it
END:VEVENT
BEGIN:VEVENT
DTSTART;TZID=Europe/Rome:20260422T093000
DTEND;TZID=Europe/Rome:20260422T113000
DTSTAMP:20260422T013916
CREATED:20260414T125407Z
LAST-MODIFIED:20260414T131357Z
UID:24283-1776850200-1776857400@www.promofirenze.it
SUMMARY:Indicazione Geografica per i Prodotti Artigianali: una grande opportunità per gli artigiani italiani e il Made in Italy
DESCRIPTION:PromoFirenze\, Azienda Speciale della Camera di Commercio di Firenze\, promuove l’evento “Indicazione Geografica per i Prodotti Artigianali: una grande opportunità per gli artigiani italiani e il Made in Italy” insieme a Camera di Commercio Italiana in Belgio\, Confartigianato Imprese e CNA – Confederazione Nazionale dell’Artigianato e della Piccola e Media Impresa\, al fine di approfondire una novità di grande rilievo per la tutela e la valorizzazione delle eccellenze artigianali italiane. \nL’incontro si svolgerà in modalità online\, mercoledì 22 aprile 2026 dalle ore 9.30 alle ore 11.30 (il link verra’ condiviso con i partecipanti in seguito) \nL’iniziativa rappresenta un’importante occasione di approfondimento sul Regolamento (UE) 2023/2411\, operativo dal 1 dicembre 2025\, che introduce un sistema armonizzato di tutela delle Indicazioni Geografiche per i prodotti artigianali e industriali. \nAttraverso il confronto tra istituzioni europee\, nazionali e rappresentanti del sistema produttivo\, l’evento consentirà di: \n\nanalizzare le procedure di accesso al nuovo sistema di protezione;\napprofondire i vantaggi concreti per imprese e territori;\nesaminare le principali novità del regolamento e le sue implicazioni applicative;\ncondividere esperienze e casi pratici di imprese e consorzi già coinvolti.\n\nL’incontro si inserisce in un percorso di dialogo strategico volto a rafforzare la tutela delle produzioni manifatturiere europee e a sostenere la competitività delle filiere territoriali. \nLa partecipazione online prevede registrazione obbligatoria entro il 17 aprile 2026. \nREGISTRATI ALL’EVENTO \nIl programma dettagliato e l’elenco dei relatori verranno condivisi a breve.
URL:https://www.promofirenze.it/evento/indicazione-geografica-per-i-prodotti-artigianali/
CATEGORIES:Webinar
ATTACH;FMTTYPE=image/png:https://www.promofirenze.it/wp-content/uploads/2026/04/Mailing-7.png
END:VEVENT
BEGIN:VEVENT
DTSTART;TZID=Europe/Rome:20260422T110000
DTEND;TZID=Europe/Rome:20260422T130000
DTSTAMP:20260422T013916
CREATED:20260421T141155Z
LAST-MODIFIED:20260421T144737Z
UID:24354-1776855600-1776862800@www.promofirenze.it
SUMMARY:Cerimonia di premiazione vincitori Concorso Nazionale Ercole Olivario 2026  (streaming)
DESCRIPTION:Perugia si trasforma nel palcoscenico dell’Olio italiano di Qualità con la premiazione dei vincitori della XXXIV° edizione del concorso nazionale Ercole Olivario 2026\, fulcro del progetto di Sistema per la Valorizzazione delle Eccellenze Olearie Italiane. \nLa cerimonia verrà trasmessa il 22 aprile alle ore 11.00 anche in streaming attraverso i canali social del concorso: \nFacebook  https://www.facebook.com/premioercoleolivario \nYou Tube https://www.youtube.com/@ercoleolivario9149 \nIl concorso nazionale Ercole Olivario è indetto dall’Unione Italiana delle Camere di Commercio\, Industria\, Artigianato e Agricoltura in collaborazione con la Camera di Commercio dell’Umbria\, il Ministero dell’agricoltura\, della sovranità alimentare e delle foreste; il Ministero delle Imprese e del Made in Italy\, Sviluppo e Territorio – Azienda Speciale Camera di Commercio di Roma per lo sviluppo e la crescita di Roma e della regione Lazio; ICE – Agenzia per la Promozione all’estero e l’internazionalizzazione delle imprese italiane; Consiglio per la ricerca in agricoltura e l’analisi dell’economia agraria (CREA) – Centro di Ricerca Ingegneria e Trasformazioni agroalimentari (IT) Sede di Pescara; Italia Olivicola ed Unaprol. \nPer maggiori informazioni: \nSegreteria Nazionale del Concorso Ercole Olivario \nc/o Promocamera – Azienda Speciale Camera di Commercio dell’Umbria \nTel. +39 075 9660589 / 075 9660369 \nercoleolivario@umbria.camcom.it – www.ercoleolivario.it
URL:https://www.promofirenze.it/evento/cerimonia-di-proclamazione-e-premiazione-dei-vincitori-concorso-nazionale-ercole-olivario-2026-xxxiv-edizione-streaming/
ATTACH;FMTTYPE=image/png:https://www.promofirenze.it/wp-content/uploads/2026/02/ercole_olivario_concorso-1920x1920-1.png
END:VEVENT
END:VCALENDAR