BEGIN:VCALENDAR
VERSION:2.0
PRODID:-//PromoFirenze - ECPv6.15.8//NONSGML v1.0//EN
CALSCALE:GREGORIAN
METHOD:PUBLISH
X-ORIGINAL-URL:https://www.promofirenze.it
X-WR-CALDESC:Eventi per PromoFirenze
REFRESH-INTERVAL;VALUE=DURATION:PT1H
X-Robots-Tag:noindex
X-PUBLISHED-TTL:PT1H
BEGIN:VTIMEZONE
TZID:Europe/Rome
BEGIN:DAYLIGHT
TZOFFSETFROM:+0100
TZOFFSETTO:+0200
TZNAME:CEST
DTSTART:20240331T010000
END:DAYLIGHT
BEGIN:STANDARD
TZOFFSETFROM:+0200
TZOFFSETTO:+0100
TZNAME:CET
DTSTART:20241027T010000
END:STANDARD
BEGIN:DAYLIGHT
TZOFFSETFROM:+0100
TZOFFSETTO:+0200
TZNAME:CEST
DTSTART:20250330T010000
END:DAYLIGHT
BEGIN:STANDARD
TZOFFSETFROM:+0200
TZOFFSETTO:+0100
TZNAME:CET
DTSTART:20251026T010000
END:STANDARD
BEGIN:DAYLIGHT
TZOFFSETFROM:+0100
TZOFFSETTO:+0200
TZNAME:CEST
DTSTART:20260329T010000
END:DAYLIGHT
BEGIN:STANDARD
TZOFFSETFROM:+0200
TZOFFSETTO:+0100
TZNAME:CET
DTSTART:20261025T010000
END:STANDARD
END:VTIMEZONE
BEGIN:VEVENT
DTSTART;TZID=Europe/Rome:20250910T080000
DTEND;TZID=Europe/Rome:20251006T130000
DTSTAMP:20260422T124807
CREATED:20250910T121227Z
LAST-MODIFIED:20250930T145301Z
UID:23290-1757491200-1759755600@www.promofirenze.it
SUMMARY:BuyWine Toscana 2026: aperto il bando\, adesioni fino al 6 ottobre
DESCRIPTION:Aperto il bando della Regione Toscana per partecipare alla 16° edizione di BuyWineToscana 2026\, il principale evento per la promozione del vino prodotto in Toscana. \nLa prossima edizione sarà ospitata alla Stazione Leopolda della città di Firenze nei giorni 11 e 12 marzo. \nIl bando è aperto dal 10/09 alle ore 13:00 di lunedì 6/10. \n  \nBuyWine Toscana 2026 mette a disposizione un massimo di 270 postazioni totali. \nOgni azienda potrà manifestare l’interesse a partecipare a una o due giornate di B2B. \nAl bando possono partecipare imprese singole o associate che producono e commercializzano vini DOCG\, DOC\, IGT della Toscana. \nTutti i dettagli per partecipare al seguente link: BuyWine Toscana 2026 – Regione Toscana
URL:https://www.promofirenze.it/evento/buywine-toscana-2026-aperto-il-bando-adesioni-fino-al-6-ottobre/
LOCATION:In presenza e online
CATEGORIES:B2B
ATTACH;FMTTYPE=image/jpeg:https://www.promofirenze.it/wp-content/uploads/2025/09/Primanteprima-2025-ph-Ilaria-Costanzo-8160-scaled.jpg
END:VEVENT
BEGIN:VEVENT
DTSTART;TZID=Europe/Rome:20250917T093000
DTEND;TZID=Europe/Rome:20250917T133000
DTSTAMP:20260422T124807
CREATED:20250908T110331Z
LAST-MODIFIED:20250930T152123Z
UID:23281-1758101400-1758115800@www.promofirenze.it
SUMMARY:Webinar - Doing Business in India e Cina
DESCRIPTION:Nell’ambito del Progetto SEI – «Sostegno all’Export dell’Italia»\, Unioncamere e il Sistema camerale italiano\, con il supporto di Promos Italia\, promuovono un ciclo di incontri formativi rivolto alle PMI ad alto potenziale\, con l’obiettivo di rafforzarne la presenza sui mercati esteri. \nIl webinar gratuito del 17 settembre (h. 9.30-13.30) è focalizzato sul mercato indiano (con la presentazione di SIMEST della nuova misura dei finanziamenti India appena stanziata) e cinese. \nPer partecipare ai webinar occorre iscriversi al progetto SEI (la registrazione al progetto è gratuita\, clicca qui) accedere all’area riservata con le proprie credenziali. \nPer ulteriori info contattare: info@sostegnoexport.it
URL:https://www.promofirenze.it/evento/webinar-doing-business-in-india-e-cina/
LOCATION:Webinar\, online
CATEGORIES:Webinar
ATTACH;FMTTYPE=image/jpeg:https://www.promofirenze.it/wp-content/uploads/2025/09/map-of-the-world-2401458_1280.jpg
END:VEVENT
END:VCALENDAR