BEGIN:VCALENDAR
VERSION:2.0
PRODID:-//PromoFirenze - ECPv6.15.8//NONSGML v1.0//EN
CALSCALE:GREGORIAN
METHOD:PUBLISH
X-ORIGINAL-URL:https://www.promofirenze.it
X-WR-CALDESC:Eventi per PromoFirenze
REFRESH-INTERVAL;VALUE=DURATION:PT1H
X-Robots-Tag:noindex
X-PUBLISHED-TTL:PT1H
BEGIN:VTIMEZONE
TZID:Europe/Rome
BEGIN:DAYLIGHT
TZOFFSETFROM:+0100
TZOFFSETTO:+0200
TZNAME:CEST
DTSTART:20240331T010000
END:DAYLIGHT
BEGIN:STANDARD
TZOFFSETFROM:+0200
TZOFFSETTO:+0100
TZNAME:CET
DTSTART:20241027T010000
END:STANDARD
BEGIN:DAYLIGHT
TZOFFSETFROM:+0100
TZOFFSETTO:+0200
TZNAME:CEST
DTSTART:20250330T010000
END:DAYLIGHT
BEGIN:STANDARD
TZOFFSETFROM:+0200
TZOFFSETTO:+0100
TZNAME:CET
DTSTART:20251026T010000
END:STANDARD
BEGIN:DAYLIGHT
TZOFFSETFROM:+0100
TZOFFSETTO:+0200
TZNAME:CEST
DTSTART:20260329T010000
END:DAYLIGHT
BEGIN:STANDARD
TZOFFSETFROM:+0200
TZOFFSETTO:+0100
TZNAME:CET
DTSTART:20261025T010000
END:STANDARD
END:VTIMEZONE
BEGIN:VEVENT
DTSTART;TZID=Europe/Rome:20250625T080000
DTEND;TZID=Europe/Rome:20250626T170000
DTSTAMP:20260420T024316
CREATED:20241113T103633Z
LAST-MODIFIED:20250314T092802Z
UID:21555-1750838400-1750957200@www.promofirenze.it
SUMMARY:Singapore apre le porte del Sud Est Asiatico alle imprese italiane  IFBS 25-26 giugno 2025
DESCRIPTION:La Camera di Commercio Italiana a Singapore\, in collaborazione con le Camere di Commercio Italiane in Asia\, organizza la 6° edizione di Italian Food and Beverage in Singapore (IFBS). IFBS è una piattaforma che si rivolge al sudest asiatico dove le Aziende Italiane del settore agroalimentare possono incontrare buyer ad operatori del settore provenienti da: \nSingapore\, Malesia\, Indonesia\, Vietnam\, Giappone\, Australia\, Hong Kong\, Thailandia\, Corea del Sud\, Filippine e Cambogia \nIl progetto prevede 2 giornate di incontri B2B con agende personalizzate\, presentazione e degustazioni di prodotti food\, beverage and wine italiani \nCosti di partecipazione – oltre all’iscrizione allo spazio espositivo\, al materiale per le degustazioni e ai servizi accessori\, è compresa anche la spedizione di pallet Italia/Singapore in container a temperatura controllata via mare e l’assistenza da parte della Segreteria Organizzativa per la spedizione della campionatura (groupage prodotti\, invoice\, packing list\, conteggio dazi\, documentazioni doganali\, procedure di sdoganamento..) \nLa merce non è soggetta a Dazi ad esclusione dei prodotti alcolici di cui conteggio come da tabella nei “costi extra” indicata di seguito. \nPer fissare un appuntamento con PromoFirenze e la Camera di Commercio Italiana di Singapore e ricevere maggiori dettagli\, chiama 055-2671.402 \n  \n\n\n\nTariffa iscrizione entro 04.04.2025\n\n\n\nCosto totale\n3.850\,00 € + IVA 22%\n\n\nCosto con agevolazione 50% in regime de minimis.\nPer le aziende iscritte alla CCIAA di Firenze\n1.925\,00 € + IVA 22%
URL:https://www.promofirenze.it/evento/singapore-apre-le-porte-del-sud-est-asiatico-alle-imprese-italiane-ifbs-25-26-giugno-2025/
LOCATION:Suntec Conventioin Centre // Nicoll 1-2\, Singapore
CATEGORIES:B2B
ATTACH;FMTTYPE=image/jpeg:https://www.promofirenze.it/wp-content/uploads/2023/01/e-commerce-singapore.jpg
END:VEVENT
END:VCALENDAR