BEGIN:VCALENDAR
VERSION:2.0
PRODID:-//PromoFirenze - ECPv6.15.8//NONSGML v1.0//EN
CALSCALE:GREGORIAN
METHOD:PUBLISH
X-ORIGINAL-URL:https://www.promofirenze.it
X-WR-CALDESC:Eventi per PromoFirenze
REFRESH-INTERVAL;VALUE=DURATION:PT1H
X-Robots-Tag:noindex
X-PUBLISHED-TTL:PT1H
BEGIN:VTIMEZONE
TZID:Europe/Rome
BEGIN:DAYLIGHT
TZOFFSETFROM:+0100
TZOFFSETTO:+0200
TZNAME:CEST
DTSTART:20240331T010000
END:DAYLIGHT
BEGIN:STANDARD
TZOFFSETFROM:+0200
TZOFFSETTO:+0100
TZNAME:CET
DTSTART:20241027T010000
END:STANDARD
BEGIN:DAYLIGHT
TZOFFSETFROM:+0100
TZOFFSETTO:+0200
TZNAME:CEST
DTSTART:20250330T010000
END:DAYLIGHT
BEGIN:STANDARD
TZOFFSETFROM:+0200
TZOFFSETTO:+0100
TZNAME:CET
DTSTART:20251026T010000
END:STANDARD
BEGIN:DAYLIGHT
TZOFFSETFROM:+0100
TZOFFSETTO:+0200
TZNAME:CEST
DTSTART:20260329T010000
END:DAYLIGHT
BEGIN:STANDARD
TZOFFSETFROM:+0200
TZOFFSETTO:+0100
TZNAME:CET
DTSTART:20261025T010000
END:STANDARD
END:VTIMEZONE
BEGIN:VEVENT
DTSTART;TZID=Europe/Rome:20250210T143000
DTEND;TZID=Europe/Rome:20250210T163000
DTSTAMP:20260422T052437
CREATED:20250128T124440Z
LAST-MODIFIED:20250307T111546Z
UID:22614-1739197800-1739205000@www.promofirenze.it
SUMMARY:LE AGEVOLAZIONI PER GLI INVESTIMENTI DELLE IMPRESE AGRICOLE IN TOSCANA
DESCRIPTION:La Camera di Commercio di Firenze e la sua Azienda Speciale PromoFirenze\, in collaborazione con la Regione Toscana\, organizzano il prossimo 10 febbraio 2025 dalle ore 14.30 un webinar tecnico informativo sulle agevolazioni del Complemento di Sviluppo Rurale 2023-2027 per sostenere gli investimenti delle imprese agricole toscane. \nLa partecipazione è gratuita previa iscrizione alla piattaforma GoToWebinar disponibile cliccando qui \n 
URL:https://www.promofirenze.it/evento/finanziamenti-e-agevolazioni-il-prossimo-10-febbraio-un-webinar-tecnico-sulle-agevolazioni-in-agricoltura-in-toscana/
LOCATION:Webinar\, online
CATEGORIES:Webinar
ATTACH;FMTTYPE=image/png:https://www.promofirenze.it/wp-content/uploads/2024/10/distretto_main.png
ORGANIZER;CN="Camera di Commercio di Firenze e PromoFirenze":MAILTO:puntocamera@fi.camcom.it
END:VEVENT
END:VCALENDAR