BEGIN:VCALENDAR
VERSION:2.0
PRODID:-//PromoFirenze - ECPv6.15.8//NONSGML v1.0//EN
CALSCALE:GREGORIAN
METHOD:PUBLISH
X-WR-CALNAME:PromoFirenze
X-ORIGINAL-URL:https://www.promofirenze.it
X-WR-CALDESC:Eventi per PromoFirenze
REFRESH-INTERVAL;VALUE=DURATION:PT1H
X-Robots-Tag:noindex
X-PUBLISHED-TTL:PT1H
BEGIN:VTIMEZONE
TZID:Europe/Rome
BEGIN:DAYLIGHT
TZOFFSETFROM:+0100
TZOFFSETTO:+0200
TZNAME:CEST
DTSTART:20230326T010000
END:DAYLIGHT
BEGIN:STANDARD
TZOFFSETFROM:+0200
TZOFFSETTO:+0100
TZNAME:CET
DTSTART:20231029T010000
END:STANDARD
BEGIN:DAYLIGHT
TZOFFSETFROM:+0100
TZOFFSETTO:+0200
TZNAME:CEST
DTSTART:20240331T010000
END:DAYLIGHT
BEGIN:STANDARD
TZOFFSETFROM:+0200
TZOFFSETTO:+0100
TZNAME:CET
DTSTART:20241027T010000
END:STANDARD
BEGIN:DAYLIGHT
TZOFFSETFROM:+0100
TZOFFSETTO:+0200
TZNAME:CEST
DTSTART:20250330T010000
END:DAYLIGHT
BEGIN:STANDARD
TZOFFSETFROM:+0200
TZOFFSETTO:+0100
TZNAME:CET
DTSTART:20251026T010000
END:STANDARD
END:VTIMEZONE
BEGIN:VEVENT
DTSTART;TZID=Europe/Rome:20240117T080000
DTEND;TZID=Europe/Rome:20240422T170000
DTSTAMP:20260420T044949
CREATED:20240117T133000Z
LAST-MODIFIED:20250307T115843Z
UID:20078-1705478400-1713805200@www.promofirenze.it
SUMMARY:Smart & Technical Textiles - B2B Matchmaking Sessions and Expert Talks
DESCRIPTION:  \nB2B su Tessuti tecnici e non tessuti – 23-26 aprile a Francoforte\nIn occasione della principale fiera internazionale dedicata ai tessuti tecnici e non tessuti\, TechTextil\, che si terrà dal 23 al 26 aprile 2024 a Francoforte\, la Rete Enterprise Europe Network organizza un evento di brokerage internazionale per aziende\, enti di ricerca e tutti gli attori interessati a esplorare progetti congiunti\, cooperazione tecnica o nuovi contatti commerciali con partner provenienti da Europa e dal resto del mondo. \nL’evento\, completamente gratuito\, consente di entrare in contatto con espositori ed operatori del settore\, offre la possibilità di creare collaborazioni commerciali o progettuali. \nÈ possibile registrarsi gratuitamente all’evento\, compilando il proprio profilo di cooperazione sulla piattaforma online dell’evento e selezionare le controparti interessanti per gli incontri bilaterali. \nAttraverso la piattaforma online dell’evento\, è possibile programmare gli incontri bilaterali scegliendo se svolgerli virtualmente – da remoto – o dal vivo\, recandosi in fiera. PromoFirenze\, co-organizer dell’evento\, è a disposizione per la preparazione del profilo di cooperazione e la ricerca delle controparti da contattare. \n  \n \n  \n  \n 
URL:https://www.promofirenze.it/evento/smart-technical-textiles-b2b-matchmaking-sessions-and-expert-talks/
LOCATION:PromoFirenze\, Piazza Dei Giudici\, 3\, Firenze\, 50122\, Italia
ATTACH;FMTTYPE=image/jpeg:https://www.promofirenze.it/wp-content/uploads/2024/01/techtextil-b2b.jpg
END:VEVENT
BEGIN:VEVENT
DTSTART;TZID=Europe/Rome:20240118T080000
DTEND;TZID=Europe/Rome:20240312T170000
DTSTAMP:20260420T044949
CREATED:20240118T085910Z
LAST-MODIFIED:20250930T144830Z
UID:20085-1705564800-1710262800@www.promofirenze.it
SUMMARY:B2B Matchmaking presso JEC World 2024 – marzo 2024
DESCRIPTION:  \nJEC World 2024 di Parigi è l’evento ideale per conoscere le innovazioni e tecnologie all’avanguardia nel campo dei materiali compositi. All’interno della Fiera la rete Enterprise Europe Network organizza un evento di brokerage internazionale finalizzato a creare opportunità di matchmaking tra aziende (acquirenti e fornitori)\, ricercatori\, start-up e cluster provenienti da numerosi paesi europei. Si tratta di un’opportunità unica per generare nuovi contatti commerciali e finalizzare accordi. \nLa partecipazione all’evento online di matchmaking EEN è gratuita\, iscrivendosi sulla piattaforma ufficiale online. PromoFirenze\, co-organizer dell’evento\, è a disposizione per la preparazione del profilo di cooperazione e la ricerca delle controparti da contattare. \nREGISTRATI QUI ALLA PIATTAFORMA DELL’EVENTO \nAlternativamente è anche possibile partecipare fisicamente alla fiera e agli incontri. \nGli incontri fisici (onsite) si terranno il 5-7 marzo 2024 durante la JEC World 2024 di Parigi\, mentre gli incontri online si terranno nei giorni 12-15 marzo 2024 sulla piattaforma B2Match. \n  \nSETTORI DI INTERESSE: \nFibre \nMateriali compositi \nPlastica \nPolimeri \nCarbonio \nVetro \nTessile \n 
URL:https://www.promofirenze.it/evento/b2b-matchmaking-presso-jec-world-2024-marzo-2024/
LOCATION:Parigi
CATEGORIES:B2B
ATTACH;FMTTYPE=image/png:https://www.promofirenze.it/wp-content/uploads/2024/01/EEN-JEC-2024.png
END:VEVENT
END:VCALENDAR