BEGIN:VCALENDAR
VERSION:2.0
PRODID:-//PromoFirenze - ECPv6.15.8//NONSGML v1.0//EN
CALSCALE:GREGORIAN
METHOD:PUBLISH
X-ORIGINAL-URL:https://www.promofirenze.it
X-WR-CALDESC:Eventi per PromoFirenze
REFRESH-INTERVAL;VALUE=DURATION:PT1H
X-Robots-Tag:noindex
X-PUBLISHED-TTL:PT1H
BEGIN:VTIMEZONE
TZID:Europe/Rome
BEGIN:DAYLIGHT
TZOFFSETFROM:+0100
TZOFFSETTO:+0200
TZNAME:CEST
DTSTART:20190331T010000
END:DAYLIGHT
BEGIN:STANDARD
TZOFFSETFROM:+0200
TZOFFSETTO:+0100
TZNAME:CET
DTSTART:20191027T010000
END:STANDARD
BEGIN:DAYLIGHT
TZOFFSETFROM:+0100
TZOFFSETTO:+0200
TZNAME:CEST
DTSTART:20200329T010000
END:DAYLIGHT
BEGIN:STANDARD
TZOFFSETFROM:+0200
TZOFFSETTO:+0100
TZNAME:CET
DTSTART:20201025T010000
END:STANDARD
BEGIN:DAYLIGHT
TZOFFSETFROM:+0100
TZOFFSETTO:+0200
TZNAME:CEST
DTSTART:20210328T010000
END:DAYLIGHT
BEGIN:STANDARD
TZOFFSETFROM:+0200
TZOFFSETTO:+0100
TZNAME:CET
DTSTART:20211031T010000
END:STANDARD
END:VTIMEZONE
BEGIN:VEVENT
DTSTART;TZID=Europe/Rome:20201001T150000
DTEND;TZID=Europe/Rome:20201001T160000
DTSTAMP:20260425T144431
CREATED:20200924T085458Z
LAST-MODIFIED:20250930T150530Z
UID:9550-1601564400-1601568000@www.promofirenze.it
SUMMARY:Seminario online gratuito - perché puntare sull'eFood in Germania?
DESCRIPTION:Un seminario online gratuito rivolto ad aziende italiane con focus sull’E-Commerce nel settore agroalimentare in Germania. \n  \nTutti i dettagli ed i contatti per l’iscrizione cliccando qui
URL:https://www.promofirenze.it/evento/seminario-online-gratuito-perche-puntare-sullefood-in-germania/
LOCATION:Online
CATEGORIES:Webinar
END:VEVENT
END:VCALENDAR